BEGIN:VCALENDAR
VERSION:2.0
PRODID:-//Temple B&#039;rith Sholom - ECPv6.15.17.1//NONSGML v1.0//EN
CALSCALE:GREGORIAN
METHOD:PUBLISH
X-WR-CALNAME:Temple B&#039;rith Sholom
X-ORIGINAL-URL:https://templebrithsholom.org
X-WR-CALDESC:Events for Temple B&#039;rith Sholom
REFRESH-INTERVAL;VALUE=DURATION:PT1H
X-Robots-Tag:noindex
X-PUBLISHED-TTL:PT1H
BEGIN:VTIMEZONE
TZID:America/Chicago
BEGIN:DAYLIGHT
TZOFFSETFROM:-0600
TZOFFSETTO:-0500
TZNAME:CDT
DTSTART:20260308T080000
END:DAYLIGHT
BEGIN:STANDARD
TZOFFSETFROM:-0500
TZOFFSETTO:-0600
TZNAME:CST
DTSTART:20261101T070000
END:STANDARD
BEGIN:DAYLIGHT
TZOFFSETFROM:-0600
TZOFFSETTO:-0500
TZNAME:CDT
DTSTART:20270314T080000
END:DAYLIGHT
BEGIN:STANDARD
TZOFFSETFROM:-0500
TZOFFSETTO:-0600
TZNAME:CST
DTSTART:20271107T070000
END:STANDARD
BEGIN:DAYLIGHT
TZOFFSETFROM:-0600
TZOFFSETTO:-0500
TZNAME:CDT
DTSTART:20280312T080000
END:DAYLIGHT
BEGIN:STANDARD
TZOFFSETFROM:-0500
TZOFFSETTO:-0600
TZNAME:CST
DTSTART:20281105T070000
END:STANDARD
END:VTIMEZONE
BEGIN:VEVENT
DTSTART;TZID=America/Chicago:20270212T173000
DTEND;TZID=America/Chicago:20270212T183000
DTSTAMP:20260422T212858
CREATED:20241224T175828Z
LAST-MODIFIED:20241224T175828Z
UID:10000056-1802453400-1802457000@templebrithsholom.org
SUMMARY:Shabbat Service
DESCRIPTION:Please login to your account to view this information.
URL:https://templebrithsholom.org/event/shabbat-service/2027-02-12/
LOCATION:Temble B’rith Sholom\, 1004 South 4th Street\, Springfield\, IL\, 62703\, United States
END:VEVENT
BEGIN:VEVENT
DTSTART;TZID=America/Chicago:20270213T100000
DTEND;TZID=America/Chicago:20270213T110000
DTSTAMP:20260422T212858
CREATED:20241224T183227Z
LAST-MODIFIED:20241224T183227Z
UID:10000504-1802512800-1802516400@templebrithsholom.org
SUMMARY:Torah Study
DESCRIPTION:Please login to your account to view this information.
URL:https://templebrithsholom.org/event/torah-study/2027-02-13/
LOCATION:Temble B’rith Sholom\, 1004 South 4th Street\, Springfield\, IL\, 62703\, United States
END:VEVENT
BEGIN:VEVENT
DTSTART;TZID=America/Chicago:20270219T180000
DTEND;TZID=America/Chicago:20270219T190000
DTSTAMP:20260422T212858
CREATED:20241224T175929Z
LAST-MODIFIED:20241224T180011Z
UID:10000309-1803060000-1803063600@templebrithsholom.org
SUMMARY:Shabbat Service
DESCRIPTION:Please login to your account to view this information.
URL:https://templebrithsholom.org/event/shabbat-service-2/2027-02-19/
LOCATION:Temble B’rith Sholom\, 1004 South 4th Street\, Springfield\, IL\, 62703\, United States
END:VEVENT
BEGIN:VEVENT
DTSTART;TZID=America/Chicago:20270220T100000
DTEND;TZID=America/Chicago:20270220T110000
DTSTAMP:20260422T212858
CREATED:20241224T183227Z
LAST-MODIFIED:20241224T183227Z
UID:10000505-1803117600-1803121200@templebrithsholom.org
SUMMARY:Torah Study
DESCRIPTION:Please login to your account to view this information.
URL:https://templebrithsholom.org/event/torah-study/2027-02-20/
LOCATION:Temble B’rith Sholom\, 1004 South 4th Street\, Springfield\, IL\, 62703\, United States
END:VEVENT
BEGIN:VEVENT
DTSTART;TZID=America/Chicago:20270226T180000
DTEND;TZID=America/Chicago:20270226T190000
DTSTAMP:20260422T212858
CREATED:20241224T175929Z
LAST-MODIFIED:20241224T180011Z
UID:10000310-1803664800-1803668400@templebrithsholom.org
SUMMARY:Shabbat Service
DESCRIPTION:Please login to your account to view this information.
URL:https://templebrithsholom.org/event/shabbat-service-2/2027-02-26/
LOCATION:Temble B’rith Sholom\, 1004 South 4th Street\, Springfield\, IL\, 62703\, United States
END:VEVENT
BEGIN:VEVENT
DTSTART;TZID=America/Chicago:20270227T100000
DTEND;TZID=America/Chicago:20270227T110000
DTSTAMP:20260422T212858
CREATED:20241224T183227Z
LAST-MODIFIED:20241224T183227Z
UID:10000506-1803722400-1803726000@templebrithsholom.org
SUMMARY:Torah Study
DESCRIPTION:Please login to your account to view this information.
URL:https://templebrithsholom.org/event/torah-study/2027-02-27/
LOCATION:Temble B’rith Sholom\, 1004 South 4th Street\, Springfield\, IL\, 62703\, United States
END:VEVENT
BEGIN:VEVENT
DTSTART;TZID=America/Chicago:20270305T173000
DTEND;TZID=America/Chicago:20270305T183000
DTSTAMP:20260422T212858
CREATED:20241224T175828Z
LAST-MODIFIED:20241224T175828Z
UID:10000057-1804267800-1804271400@templebrithsholom.org
SUMMARY:Shabbat Service
DESCRIPTION:Please login to your account to view this information.
URL:https://templebrithsholom.org/event/shabbat-service/2027-03-05/
LOCATION:Temble B’rith Sholom\, 1004 South 4th Street\, Springfield\, IL\, 62703\, United States
END:VEVENT
BEGIN:VEVENT
DTSTART;TZID=America/Chicago:20270306T100000
DTEND;TZID=America/Chicago:20270306T110000
DTSTAMP:20260422T212858
CREATED:20241224T183227Z
LAST-MODIFIED:20241224T183227Z
UID:10000507-1804327200-1804330800@templebrithsholom.org
SUMMARY:Torah Study
DESCRIPTION:Please login to your account to view this information.
URL:https://templebrithsholom.org/event/torah-study/2027-03-06/
LOCATION:Temble B’rith Sholom\, 1004 South 4th Street\, Springfield\, IL\, 62703\, United States
END:VEVENT
BEGIN:VEVENT
DTSTART;TZID=America/Chicago:20270312T173000
DTEND;TZID=America/Chicago:20270312T183000
DTSTAMP:20260422T212858
CREATED:20241224T175828Z
LAST-MODIFIED:20241224T175828Z
UID:10000058-1804872600-1804876200@templebrithsholom.org
SUMMARY:Shabbat Service
DESCRIPTION:Please login to your account to view this information.
URL:https://templebrithsholom.org/event/shabbat-service/2027-03-12/
LOCATION:Temble B’rith Sholom\, 1004 South 4th Street\, Springfield\, IL\, 62703\, United States
END:VEVENT
BEGIN:VEVENT
DTSTART;TZID=America/Chicago:20270313T100000
DTEND;TZID=America/Chicago:20270313T110000
DTSTAMP:20260422T212858
CREATED:20241224T183227Z
LAST-MODIFIED:20241224T183227Z
UID:10000508-1804932000-1804935600@templebrithsholom.org
SUMMARY:Torah Study
DESCRIPTION:Please login to your account to view this information.
URL:https://templebrithsholom.org/event/torah-study/2027-03-13/
LOCATION:Temble B’rith Sholom\, 1004 South 4th Street\, Springfield\, IL\, 62703\, United States
END:VEVENT
BEGIN:VEVENT
DTSTART;TZID=America/Chicago:20270319T180000
DTEND;TZID=America/Chicago:20270319T190000
DTSTAMP:20260422T212858
CREATED:20241224T175929Z
LAST-MODIFIED:20241224T180011Z
UID:10000311-1805479200-1805482800@templebrithsholom.org
SUMMARY:Shabbat Service
DESCRIPTION:Please login to your account to view this information.
URL:https://templebrithsholom.org/event/shabbat-service-2/2027-03-19/
LOCATION:Temble B’rith Sholom\, 1004 South 4th Street\, Springfield\, IL\, 62703\, United States
END:VEVENT
BEGIN:VEVENT
DTSTART;TZID=America/Chicago:20270320T100000
DTEND;TZID=America/Chicago:20270320T110000
DTSTAMP:20260422T212858
CREATED:20241224T183227Z
LAST-MODIFIED:20241224T183227Z
UID:10000509-1805536800-1805540400@templebrithsholom.org
SUMMARY:Torah Study
DESCRIPTION:Please login to your account to view this information.
URL:https://templebrithsholom.org/event/torah-study/2027-03-20/
LOCATION:Temble B’rith Sholom\, 1004 South 4th Street\, Springfield\, IL\, 62703\, United States
END:VEVENT
BEGIN:VEVENT
DTSTART;TZID=America/Chicago:20270326T180000
DTEND;TZID=America/Chicago:20270326T190000
DTSTAMP:20260422T212858
CREATED:20241224T175929Z
LAST-MODIFIED:20241224T180011Z
UID:10000312-1806084000-1806087600@templebrithsholom.org
SUMMARY:Shabbat Service
DESCRIPTION:Please login to your account to view this information.
URL:https://templebrithsholom.org/event/shabbat-service-2/2027-03-26/
LOCATION:Temble B’rith Sholom\, 1004 South 4th Street\, Springfield\, IL\, 62703\, United States
END:VEVENT
BEGIN:VEVENT
DTSTART;TZID=America/Chicago:20270327T100000
DTEND;TZID=America/Chicago:20270327T110000
DTSTAMP:20260422T212858
CREATED:20241224T183227Z
LAST-MODIFIED:20241224T183227Z
UID:10000510-1806141600-1806145200@templebrithsholom.org
SUMMARY:Torah Study
DESCRIPTION:Please login to your account to view this information.
URL:https://templebrithsholom.org/event/torah-study/2027-03-27/
LOCATION:Temble B’rith Sholom\, 1004 South 4th Street\, Springfield\, IL\, 62703\, United States
END:VEVENT
BEGIN:VEVENT
DTSTART;TZID=America/Chicago:20270402T173000
DTEND;TZID=America/Chicago:20270402T183000
DTSTAMP:20260422T212858
CREATED:20241224T175828Z
LAST-MODIFIED:20241224T175828Z
UID:10000059-1806687000-1806690600@templebrithsholom.org
SUMMARY:Shabbat Service
DESCRIPTION:Please login to your account to view this information.
URL:https://templebrithsholom.org/event/shabbat-service/2027-04-02/
LOCATION:Temble B’rith Sholom\, 1004 South 4th Street\, Springfield\, IL\, 62703\, United States
END:VEVENT
BEGIN:VEVENT
DTSTART;TZID=America/Chicago:20270403T100000
DTEND;TZID=America/Chicago:20270403T110000
DTSTAMP:20260422T212858
CREATED:20241224T183227Z
LAST-MODIFIED:20241224T183227Z
UID:10000511-1806746400-1806750000@templebrithsholom.org
SUMMARY:Torah Study
DESCRIPTION:Please login to your account to view this information.
URL:https://templebrithsholom.org/event/torah-study/2027-04-03/
LOCATION:Temble B’rith Sholom\, 1004 South 4th Street\, Springfield\, IL\, 62703\, United States
END:VEVENT
BEGIN:VEVENT
DTSTART;TZID=America/Chicago:20270409T173000
DTEND;TZID=America/Chicago:20270409T183000
DTSTAMP:20260422T212858
CREATED:20241224T175828Z
LAST-MODIFIED:20241224T175828Z
UID:10000060-1807291800-1807295400@templebrithsholom.org
SUMMARY:Shabbat Service
DESCRIPTION:Please login to your account to view this information.
URL:https://templebrithsholom.org/event/shabbat-service/2027-04-09/
LOCATION:Temble B’rith Sholom\, 1004 South 4th Street\, Springfield\, IL\, 62703\, United States
END:VEVENT
BEGIN:VEVENT
DTSTART;TZID=America/Chicago:20270410T100000
DTEND;TZID=America/Chicago:20270410T110000
DTSTAMP:20260422T212858
CREATED:20241224T183227Z
LAST-MODIFIED:20241224T183227Z
UID:10000512-1807351200-1807354800@templebrithsholom.org
SUMMARY:Torah Study
DESCRIPTION:Please login to your account to view this information.
URL:https://templebrithsholom.org/event/torah-study/2027-04-10/
LOCATION:Temble B’rith Sholom\, 1004 South 4th Street\, Springfield\, IL\, 62703\, United States
END:VEVENT
BEGIN:VEVENT
DTSTART;TZID=America/Chicago:20270416T180000
DTEND;TZID=America/Chicago:20270416T190000
DTSTAMP:20260422T212858
CREATED:20241224T175929Z
LAST-MODIFIED:20241224T180011Z
UID:10000313-1807898400-1807902000@templebrithsholom.org
SUMMARY:Shabbat Service
DESCRIPTION:Please login to your account to view this information.
URL:https://templebrithsholom.org/event/shabbat-service-2/2027-04-16/
LOCATION:Temble B’rith Sholom\, 1004 South 4th Street\, Springfield\, IL\, 62703\, United States
END:VEVENT
BEGIN:VEVENT
DTSTART;TZID=America/Chicago:20270417T100000
DTEND;TZID=America/Chicago:20270417T110000
DTSTAMP:20260422T212858
CREATED:20241224T183227Z
LAST-MODIFIED:20241224T183227Z
UID:10000513-1807956000-1807959600@templebrithsholom.org
SUMMARY:Torah Study
DESCRIPTION:Please login to your account to view this information.
URL:https://templebrithsholom.org/event/torah-study/2027-04-17/
LOCATION:Temble B’rith Sholom\, 1004 South 4th Street\, Springfield\, IL\, 62703\, United States
END:VEVENT
BEGIN:VEVENT
DTSTART;TZID=America/Chicago:20270423T180000
DTEND;TZID=America/Chicago:20270423T190000
DTSTAMP:20260422T212858
CREATED:20241224T175929Z
LAST-MODIFIED:20241224T180011Z
UID:10000314-1808503200-1808506800@templebrithsholom.org
SUMMARY:Shabbat Service
DESCRIPTION:Please login to your account to view this information.
URL:https://templebrithsholom.org/event/shabbat-service-2/2027-04-23/
LOCATION:Temble B’rith Sholom\, 1004 South 4th Street\, Springfield\, IL\, 62703\, United States
END:VEVENT
BEGIN:VEVENT
DTSTART;TZID=America/Chicago:20270424T100000
DTEND;TZID=America/Chicago:20270424T110000
DTSTAMP:20260422T212858
CREATED:20241224T183227Z
LAST-MODIFIED:20241224T183227Z
UID:10000514-1808560800-1808564400@templebrithsholom.org
SUMMARY:Torah Study
DESCRIPTION:Please login to your account to view this information.
URL:https://templebrithsholom.org/event/torah-study/2027-04-24/
LOCATION:Temble B’rith Sholom\, 1004 South 4th Street\, Springfield\, IL\, 62703\, United States
END:VEVENT
BEGIN:VEVENT
DTSTART;TZID=America/Chicago:20270430T180000
DTEND;TZID=America/Chicago:20270430T190000
DTSTAMP:20260422T212858
CREATED:20241224T175929Z
LAST-MODIFIED:20241224T180011Z
UID:10000315-1809108000-1809111600@templebrithsholom.org
SUMMARY:Shabbat Service
DESCRIPTION:Please login to your account to view this information.
URL:https://templebrithsholom.org/event/shabbat-service-2/2027-04-30/
LOCATION:Temble B’rith Sholom\, 1004 South 4th Street\, Springfield\, IL\, 62703\, United States
END:VEVENT
BEGIN:VEVENT
DTSTART;TZID=America/Chicago:20270501T100000
DTEND;TZID=America/Chicago:20270501T110000
DTSTAMP:20260422T212858
CREATED:20241224T183227Z
LAST-MODIFIED:20241224T183227Z
UID:10000515-1809165600-1809169200@templebrithsholom.org
SUMMARY:Torah Study
DESCRIPTION:Please login to your account to view this information.
URL:https://templebrithsholom.org/event/torah-study/2027-05-01/
LOCATION:Temble B’rith Sholom\, 1004 South 4th Street\, Springfield\, IL\, 62703\, United States
END:VEVENT
BEGIN:VEVENT
DTSTART;TZID=America/Chicago:20270507T173000
DTEND;TZID=America/Chicago:20270507T183000
DTSTAMP:20260422T212858
CREATED:20241224T175828Z
LAST-MODIFIED:20241224T175828Z
UID:10000061-1809711000-1809714600@templebrithsholom.org
SUMMARY:Shabbat Service
DESCRIPTION:Please login to your account to view this information.
URL:https://templebrithsholom.org/event/shabbat-service/2027-05-07/
LOCATION:Temble B’rith Sholom\, 1004 South 4th Street\, Springfield\, IL\, 62703\, United States
END:VEVENT
BEGIN:VEVENT
DTSTART;TZID=America/Chicago:20270508T100000
DTEND;TZID=America/Chicago:20270508T110000
DTSTAMP:20260422T212858
CREATED:20241224T183227Z
LAST-MODIFIED:20241224T183227Z
UID:10000516-1809770400-1809774000@templebrithsholom.org
SUMMARY:Torah Study
DESCRIPTION:Please login to your account to view this information.
URL:https://templebrithsholom.org/event/torah-study/2027-05-08/
LOCATION:Temble B’rith Sholom\, 1004 South 4th Street\, Springfield\, IL\, 62703\, United States
END:VEVENT
BEGIN:VEVENT
DTSTART;TZID=America/Chicago:20270514T173000
DTEND;TZID=America/Chicago:20270514T183000
DTSTAMP:20260422T212858
CREATED:20241224T175828Z
LAST-MODIFIED:20241224T175828Z
UID:10000062-1810315800-1810319400@templebrithsholom.org
SUMMARY:Shabbat Service
DESCRIPTION:Please login to your account to view this information.
URL:https://templebrithsholom.org/event/shabbat-service/2027-05-14/
LOCATION:Temble B’rith Sholom\, 1004 South 4th Street\, Springfield\, IL\, 62703\, United States
END:VEVENT
BEGIN:VEVENT
DTSTART;TZID=America/Chicago:20270515T100000
DTEND;TZID=America/Chicago:20270515T110000
DTSTAMP:20260422T212858
CREATED:20241224T183227Z
LAST-MODIFIED:20241224T183227Z
UID:10000517-1810375200-1810378800@templebrithsholom.org
SUMMARY:Torah Study
DESCRIPTION:Please login to your account to view this information.
URL:https://templebrithsholom.org/event/torah-study/2027-05-15/
LOCATION:Temble B’rith Sholom\, 1004 South 4th Street\, Springfield\, IL\, 62703\, United States
END:VEVENT
BEGIN:VEVENT
DTSTART;TZID=America/Chicago:20270521T180000
DTEND;TZID=America/Chicago:20270521T190000
DTSTAMP:20260422T212858
CREATED:20241224T175929Z
LAST-MODIFIED:20241224T180011Z
UID:10000316-1810922400-1810926000@templebrithsholom.org
SUMMARY:Shabbat Service
DESCRIPTION:Please login to your account to view this information.
URL:https://templebrithsholom.org/event/shabbat-service-2/2027-05-21/
LOCATION:Temble B’rith Sholom\, 1004 South 4th Street\, Springfield\, IL\, 62703\, United States
END:VEVENT
BEGIN:VEVENT
DTSTART;TZID=America/Chicago:20270522T100000
DTEND;TZID=America/Chicago:20270522T110000
DTSTAMP:20260422T212858
CREATED:20241224T183227Z
LAST-MODIFIED:20241224T183227Z
UID:10000518-1810980000-1810983600@templebrithsholom.org
SUMMARY:Torah Study
DESCRIPTION:Please login to your account to view this information.
URL:https://templebrithsholom.org/event/torah-study/2027-05-22/
LOCATION:Temble B’rith Sholom\, 1004 South 4th Street\, Springfield\, IL\, 62703\, United States
END:VEVENT
END:VCALENDAR