BEGIN:VCALENDAR
VERSION:2.0
PRODID:-//Temple B&#039;rith Sholom - ECPv6.15.17.1//NONSGML v1.0//EN
CALSCALE:GREGORIAN
METHOD:PUBLISH
X-WR-CALNAME:Temple B&#039;rith Sholom
X-ORIGINAL-URL:https://templebrithsholom.org
X-WR-CALDESC:Events for Temple B&#039;rith Sholom
REFRESH-INTERVAL;VALUE=DURATION:PT1H
X-Robots-Tag:noindex
X-PUBLISHED-TTL:PT1H
BEGIN:VTIMEZONE
TZID:America/Chicago
BEGIN:DAYLIGHT
TZOFFSETFROM:-0600
TZOFFSETTO:-0500
TZNAME:CDT
DTSTART:20250309T080000
END:DAYLIGHT
BEGIN:STANDARD
TZOFFSETFROM:-0500
TZOFFSETTO:-0600
TZNAME:CST
DTSTART:20251102T070000
END:STANDARD
BEGIN:DAYLIGHT
TZOFFSETFROM:-0600
TZOFFSETTO:-0500
TZNAME:CDT
DTSTART:20260308T080000
END:DAYLIGHT
BEGIN:STANDARD
TZOFFSETFROM:-0500
TZOFFSETTO:-0600
TZNAME:CST
DTSTART:20261101T070000
END:STANDARD
BEGIN:DAYLIGHT
TZOFFSETFROM:-0600
TZOFFSETTO:-0500
TZNAME:CDT
DTSTART:20270314T080000
END:DAYLIGHT
BEGIN:STANDARD
TZOFFSETFROM:-0500
TZOFFSETTO:-0600
TZNAME:CST
DTSTART:20271107T070000
END:STANDARD
BEGIN:DAYLIGHT
TZOFFSETFROM:-0600
TZOFFSETTO:-0500
TZNAME:CDT
DTSTART:20280312T080000
END:DAYLIGHT
BEGIN:STANDARD
TZOFFSETFROM:-0500
TZOFFSETTO:-0600
TZNAME:CST
DTSTART:20281105T070000
END:STANDARD
END:VTIMEZONE
BEGIN:VEVENT
DTSTART;TZID=America/Chicago:20261009T173000
DTEND;TZID=America/Chicago:20261009T183000
DTSTAMP:20260422T161834
CREATED:20241224T175828Z
LAST-MODIFIED:20241224T175828Z
UID:10000048-1791567000-1791570600@templebrithsholom.org
SUMMARY:Shabbat Service
DESCRIPTION:Please login to your account to view this information.
URL:https://templebrithsholom.org/event/shabbat-service/2026-10-09/
LOCATION:Temble B’rith Sholom\, 1004 South 4th Street\, Springfield\, IL\, 62703\, United States
END:VEVENT
BEGIN:VEVENT
DTSTART;TZID=America/Chicago:20261010T100000
DTEND;TZID=America/Chicago:20261010T110000
DTSTAMP:20260422T161834
CREATED:20241224T183227Z
LAST-MODIFIED:20241224T183227Z
UID:10000486-1791626400-1791630000@templebrithsholom.org
SUMMARY:Torah Study
DESCRIPTION:Please login to your account to view this information.
URL:https://templebrithsholom.org/event/torah-study/2026-10-10/
LOCATION:Temble B’rith Sholom\, 1004 South 4th Street\, Springfield\, IL\, 62703\, United States
END:VEVENT
BEGIN:VEVENT
DTSTART;TZID=America/Chicago:20261016T180000
DTEND;TZID=America/Chicago:20261016T190000
DTSTAMP:20260422T161834
CREATED:20241224T175929Z
LAST-MODIFIED:20241224T180011Z
UID:10000299-1792173600-1792177200@templebrithsholom.org
SUMMARY:Shabbat Service
DESCRIPTION:Please login to your account to view this information.
URL:https://templebrithsholom.org/event/shabbat-service-2/2026-10-16/
LOCATION:Temble B’rith Sholom\, 1004 South 4th Street\, Springfield\, IL\, 62703\, United States
END:VEVENT
BEGIN:VEVENT
DTSTART;TZID=America/Chicago:20261017T100000
DTEND;TZID=America/Chicago:20261017T110000
DTSTAMP:20260422T161834
CREATED:20241224T183227Z
LAST-MODIFIED:20241224T183227Z
UID:10000487-1792231200-1792234800@templebrithsholom.org
SUMMARY:Torah Study
DESCRIPTION:Please login to your account to view this information.
URL:https://templebrithsholom.org/event/torah-study/2026-10-17/
LOCATION:Temble B’rith Sholom\, 1004 South 4th Street\, Springfield\, IL\, 62703\, United States
END:VEVENT
BEGIN:VEVENT
DTSTART;TZID=America/Chicago:20261023T180000
DTEND;TZID=America/Chicago:20261023T190000
DTSTAMP:20260422T161834
CREATED:20241224T175929Z
LAST-MODIFIED:20241224T180011Z
UID:10000300-1792778400-1792782000@templebrithsholom.org
SUMMARY:Shabbat Service
DESCRIPTION:Please login to your account to view this information.
URL:https://templebrithsholom.org/event/shabbat-service-2/2026-10-23/
LOCATION:Temble B’rith Sholom\, 1004 South 4th Street\, Springfield\, IL\, 62703\, United States
END:VEVENT
BEGIN:VEVENT
DTSTART;TZID=America/Chicago:20261024T100000
DTEND;TZID=America/Chicago:20261024T110000
DTSTAMP:20260422T161834
CREATED:20241224T183227Z
LAST-MODIFIED:20241224T183227Z
UID:10000488-1792836000-1792839600@templebrithsholom.org
SUMMARY:Torah Study
DESCRIPTION:Please login to your account to view this information.
URL:https://templebrithsholom.org/event/torah-study/2026-10-24/
LOCATION:Temble B’rith Sholom\, 1004 South 4th Street\, Springfield\, IL\, 62703\, United States
END:VEVENT
BEGIN:VEVENT
DTSTART;TZID=America/Chicago:20261030T180000
DTEND;TZID=America/Chicago:20261030T190000
DTSTAMP:20260422T161834
CREATED:20241224T175929Z
LAST-MODIFIED:20241224T180011Z
UID:10000301-1793383200-1793386800@templebrithsholom.org
SUMMARY:Shabbat Service
DESCRIPTION:Please login to your account to view this information.
URL:https://templebrithsholom.org/event/shabbat-service-2/2026-10-30/
LOCATION:Temble B’rith Sholom\, 1004 South 4th Street\, Springfield\, IL\, 62703\, United States
END:VEVENT
BEGIN:VEVENT
DTSTART;TZID=America/Chicago:20261031T100000
DTEND;TZID=America/Chicago:20261031T110000
DTSTAMP:20260422T161834
CREATED:20241224T183227Z
LAST-MODIFIED:20241224T183227Z
UID:10000489-1793440800-1793444400@templebrithsholom.org
SUMMARY:Torah Study
DESCRIPTION:Please login to your account to view this information.
URL:https://templebrithsholom.org/event/torah-study/2026-10-31/
LOCATION:Temble B’rith Sholom\, 1004 South 4th Street\, Springfield\, IL\, 62703\, United States
END:VEVENT
BEGIN:VEVENT
DTSTART;TZID=America/Chicago:20261106T173000
DTEND;TZID=America/Chicago:20261106T183000
DTSTAMP:20260422T161834
CREATED:20241224T175828Z
LAST-MODIFIED:20241224T175828Z
UID:10000049-1793986200-1793989800@templebrithsholom.org
SUMMARY:Shabbat Service
DESCRIPTION:Please login to your account to view this information.
URL:https://templebrithsholom.org/event/shabbat-service/2026-11-06/
LOCATION:Temble B’rith Sholom\, 1004 South 4th Street\, Springfield\, IL\, 62703\, United States
END:VEVENT
BEGIN:VEVENT
DTSTART;TZID=America/Chicago:20261107T100000
DTEND;TZID=America/Chicago:20261107T110000
DTSTAMP:20260422T161834
CREATED:20241224T183227Z
LAST-MODIFIED:20241224T183227Z
UID:10000490-1794045600-1794049200@templebrithsholom.org
SUMMARY:Torah Study
DESCRIPTION:Please login to your account to view this information.
URL:https://templebrithsholom.org/event/torah-study/2026-11-07/
LOCATION:Temble B’rith Sholom\, 1004 South 4th Street\, Springfield\, IL\, 62703\, United States
END:VEVENT
BEGIN:VEVENT
DTSTART;TZID=America/Chicago:20261113T173000
DTEND;TZID=America/Chicago:20261113T183000
DTSTAMP:20260422T161834
CREATED:20241224T175828Z
LAST-MODIFIED:20241224T175828Z
UID:10000050-1794591000-1794594600@templebrithsholom.org
SUMMARY:Shabbat Service
DESCRIPTION:Please login to your account to view this information.
URL:https://templebrithsholom.org/event/shabbat-service/2026-11-13/
LOCATION:Temble B’rith Sholom\, 1004 South 4th Street\, Springfield\, IL\, 62703\, United States
END:VEVENT
BEGIN:VEVENT
DTSTART;TZID=America/Chicago:20261114T100000
DTEND;TZID=America/Chicago:20261114T110000
DTSTAMP:20260422T161834
CREATED:20241224T183227Z
LAST-MODIFIED:20241224T183227Z
UID:10000491-1794650400-1794654000@templebrithsholom.org
SUMMARY:Torah Study
DESCRIPTION:Please login to your account to view this information.
URL:https://templebrithsholom.org/event/torah-study/2026-11-14/
LOCATION:Temble B’rith Sholom\, 1004 South 4th Street\, Springfield\, IL\, 62703\, United States
END:VEVENT
BEGIN:VEVENT
DTSTART;TZID=America/Chicago:20261120T180000
DTEND;TZID=America/Chicago:20261120T190000
DTSTAMP:20260422T161834
CREATED:20241224T175929Z
LAST-MODIFIED:20241224T180011Z
UID:10000302-1795197600-1795201200@templebrithsholom.org
SUMMARY:Shabbat Service
DESCRIPTION:Please login to your account to view this information.
URL:https://templebrithsholom.org/event/shabbat-service-2/2026-11-20/
LOCATION:Temble B’rith Sholom\, 1004 South 4th Street\, Springfield\, IL\, 62703\, United States
END:VEVENT
BEGIN:VEVENT
DTSTART;TZID=America/Chicago:20261121T100000
DTEND;TZID=America/Chicago:20261121T110000
DTSTAMP:20260422T161834
CREATED:20241224T183227Z
LAST-MODIFIED:20241224T183227Z
UID:10000492-1795255200-1795258800@templebrithsholom.org
SUMMARY:Torah Study
DESCRIPTION:Please login to your account to view this information.
URL:https://templebrithsholom.org/event/torah-study/2026-11-21/
LOCATION:Temble B’rith Sholom\, 1004 South 4th Street\, Springfield\, IL\, 62703\, United States
END:VEVENT
BEGIN:VEVENT
DTSTART;TZID=America/Chicago:20261127T180000
DTEND;TZID=America/Chicago:20261127T190000
DTSTAMP:20260422T161834
CREATED:20241224T175929Z
LAST-MODIFIED:20241224T180011Z
UID:10000303-1795802400-1795806000@templebrithsholom.org
SUMMARY:Shabbat Service
DESCRIPTION:Please login to your account to view this information.
URL:https://templebrithsholom.org/event/shabbat-service-2/2026-11-27/
LOCATION:Temble B’rith Sholom\, 1004 South 4th Street\, Springfield\, IL\, 62703\, United States
END:VEVENT
BEGIN:VEVENT
DTSTART;TZID=America/Chicago:20261128T100000
DTEND;TZID=America/Chicago:20261128T110000
DTSTAMP:20260422T161834
CREATED:20241224T183227Z
LAST-MODIFIED:20241224T183227Z
UID:10000493-1795860000-1795863600@templebrithsholom.org
SUMMARY:Torah Study
DESCRIPTION:Please login to your account to view this information.
URL:https://templebrithsholom.org/event/torah-study/2026-11-28/
LOCATION:Temble B’rith Sholom\, 1004 South 4th Street\, Springfield\, IL\, 62703\, United States
END:VEVENT
BEGIN:VEVENT
DTSTART;TZID=America/Chicago:20261204T173000
DTEND;TZID=America/Chicago:20261204T183000
DTSTAMP:20260422T161834
CREATED:20241224T175828Z
LAST-MODIFIED:20241224T175828Z
UID:10000051-1796405400-1796409000@templebrithsholom.org
SUMMARY:Shabbat Service
DESCRIPTION:Please login to your account to view this information.
URL:https://templebrithsholom.org/event/shabbat-service/2026-12-04/
LOCATION:Temble B’rith Sholom\, 1004 South 4th Street\, Springfield\, IL\, 62703\, United States
END:VEVENT
BEGIN:VEVENT
DTSTART;TZID=America/Chicago:20261205T100000
DTEND;TZID=America/Chicago:20261205T110000
DTSTAMP:20260422T161834
CREATED:20241224T183227Z
LAST-MODIFIED:20241224T183227Z
UID:10000494-1796464800-1796468400@templebrithsholom.org
SUMMARY:Torah Study
DESCRIPTION:Please login to your account to view this information.
URL:https://templebrithsholom.org/event/torah-study/2026-12-05/
LOCATION:Temble B’rith Sholom\, 1004 South 4th Street\, Springfield\, IL\, 62703\, United States
END:VEVENT
BEGIN:VEVENT
DTSTART;TZID=America/Chicago:20261211T173000
DTEND;TZID=America/Chicago:20261211T183000
DTSTAMP:20260422T161834
CREATED:20241224T175828Z
LAST-MODIFIED:20241224T175828Z
UID:10000052-1797010200-1797013800@templebrithsholom.org
SUMMARY:Shabbat Service
DESCRIPTION:Please login to your account to view this information.
URL:https://templebrithsholom.org/event/shabbat-service/2026-12-11/
LOCATION:Temble B’rith Sholom\, 1004 South 4th Street\, Springfield\, IL\, 62703\, United States
END:VEVENT
BEGIN:VEVENT
DTSTART;TZID=America/Chicago:20261212T100000
DTEND;TZID=America/Chicago:20261212T110000
DTSTAMP:20260422T161834
CREATED:20241224T183227Z
LAST-MODIFIED:20241224T183227Z
UID:10000495-1797069600-1797073200@templebrithsholom.org
SUMMARY:Torah Study
DESCRIPTION:Please login to your account to view this information.
URL:https://templebrithsholom.org/event/torah-study/2026-12-12/
LOCATION:Temble B’rith Sholom\, 1004 South 4th Street\, Springfield\, IL\, 62703\, United States
END:VEVENT
BEGIN:VEVENT
DTSTART;TZID=America/Chicago:20261218T180000
DTEND;TZID=America/Chicago:20261218T190000
DTSTAMP:20260422T161834
CREATED:20241224T175929Z
LAST-MODIFIED:20241224T180011Z
UID:10000304-1797616800-1797620400@templebrithsholom.org
SUMMARY:Shabbat Service
DESCRIPTION:Please login to your account to view this information.
URL:https://templebrithsholom.org/event/shabbat-service-2/2026-12-18/
LOCATION:Temble B’rith Sholom\, 1004 South 4th Street\, Springfield\, IL\, 62703\, United States
END:VEVENT
BEGIN:VEVENT
DTSTART;TZID=America/Chicago:20261219T100000
DTEND;TZID=America/Chicago:20261219T110000
DTSTAMP:20260422T161834
CREATED:20241224T183227Z
LAST-MODIFIED:20241224T183227Z
UID:10000496-1797674400-1797678000@templebrithsholom.org
SUMMARY:Torah Study
DESCRIPTION:Please login to your account to view this information.
URL:https://templebrithsholom.org/event/torah-study/2026-12-19/
LOCATION:Temble B’rith Sholom\, 1004 South 4th Street\, Springfield\, IL\, 62703\, United States
END:VEVENT
BEGIN:VEVENT
DTSTART;TZID=America/Chicago:20261225T180000
DTEND;TZID=America/Chicago:20261225T190000
DTSTAMP:20260422T161834
CREATED:20241224T175929Z
LAST-MODIFIED:20241224T180011Z
UID:10000305-1798221600-1798225200@templebrithsholom.org
SUMMARY:Shabbat Service
DESCRIPTION:Please login to your account to view this information.
URL:https://templebrithsholom.org/event/shabbat-service-2/2026-12-25/
LOCATION:Temble B’rith Sholom\, 1004 South 4th Street\, Springfield\, IL\, 62703\, United States
END:VEVENT
BEGIN:VEVENT
DTSTART;TZID=America/Chicago:20261226T100000
DTEND;TZID=America/Chicago:20261226T110000
DTSTAMP:20260422T161834
CREATED:20241224T183227Z
LAST-MODIFIED:20241224T183227Z
UID:10000497-1798279200-1798282800@templebrithsholom.org
SUMMARY:Torah Study
DESCRIPTION:Please login to your account to view this information.
URL:https://templebrithsholom.org/event/torah-study/2026-12-26/
LOCATION:Temble B’rith Sholom\, 1004 South 4th Street\, Springfield\, IL\, 62703\, United States
END:VEVENT
BEGIN:VEVENT
DTSTART;TZID=America/Chicago:20270101T173000
DTEND;TZID=America/Chicago:20270101T183000
DTSTAMP:20260422T161834
CREATED:20241224T175828Z
LAST-MODIFIED:20241224T175828Z
UID:10000053-1798824600-1798828200@templebrithsholom.org
SUMMARY:Shabbat Service
DESCRIPTION:Please login to your account to view this information.
URL:https://templebrithsholom.org/event/shabbat-service/2027-01-01/
LOCATION:Temble B’rith Sholom\, 1004 South 4th Street\, Springfield\, IL\, 62703\, United States
END:VEVENT
BEGIN:VEVENT
DTSTART;TZID=America/Chicago:20270102T100000
DTEND;TZID=America/Chicago:20270102T110000
DTSTAMP:20260422T161834
CREATED:20241224T183227Z
LAST-MODIFIED:20241224T183227Z
UID:10000498-1798884000-1798887600@templebrithsholom.org
SUMMARY:Torah Study
DESCRIPTION:Please login to your account to view this information.
URL:https://templebrithsholom.org/event/torah-study/2027-01-02/
LOCATION:Temble B’rith Sholom\, 1004 South 4th Street\, Springfield\, IL\, 62703\, United States
END:VEVENT
BEGIN:VEVENT
DTSTART;TZID=America/Chicago:20270108T173000
DTEND;TZID=America/Chicago:20270108T183000
DTSTAMP:20260422T161834
CREATED:20241224T175828Z
LAST-MODIFIED:20241224T175828Z
UID:10000054-1799429400-1799433000@templebrithsholom.org
SUMMARY:Shabbat Service
DESCRIPTION:Please login to your account to view this information.
URL:https://templebrithsholom.org/event/shabbat-service/2027-01-08/
LOCATION:Temble B’rith Sholom\, 1004 South 4th Street\, Springfield\, IL\, 62703\, United States
END:VEVENT
BEGIN:VEVENT
DTSTART;TZID=America/Chicago:20270109T100000
DTEND;TZID=America/Chicago:20270109T110000
DTSTAMP:20260422T161834
CREATED:20241224T183227Z
LAST-MODIFIED:20241224T183227Z
UID:10000499-1799488800-1799492400@templebrithsholom.org
SUMMARY:Torah Study
DESCRIPTION:Please login to your account to view this information.
URL:https://templebrithsholom.org/event/torah-study/2027-01-09/
LOCATION:Temble B’rith Sholom\, 1004 South 4th Street\, Springfield\, IL\, 62703\, United States
END:VEVENT
BEGIN:VEVENT
DTSTART;TZID=America/Chicago:20270115T180000
DTEND;TZID=America/Chicago:20270115T190000
DTSTAMP:20260422T161834
CREATED:20241224T175929Z
LAST-MODIFIED:20241224T180011Z
UID:10000306-1800036000-1800039600@templebrithsholom.org
SUMMARY:Shabbat Service
DESCRIPTION:Please login to your account to view this information.
URL:https://templebrithsholom.org/event/shabbat-service-2/2027-01-15/
LOCATION:Temble B’rith Sholom\, 1004 South 4th Street\, Springfield\, IL\, 62703\, United States
END:VEVENT
BEGIN:VEVENT
DTSTART;TZID=America/Chicago:20270116T100000
DTEND;TZID=America/Chicago:20270116T110000
DTSTAMP:20260422T161834
CREATED:20241224T183227Z
LAST-MODIFIED:20241224T183227Z
UID:10000500-1800093600-1800097200@templebrithsholom.org
SUMMARY:Torah Study
DESCRIPTION:Please login to your account to view this information.
URL:https://templebrithsholom.org/event/torah-study/2027-01-16/
LOCATION:Temble B’rith Sholom\, 1004 South 4th Street\, Springfield\, IL\, 62703\, United States
END:VEVENT
END:VCALENDAR