BEGIN:VCALENDAR
VERSION:2.0
PRODID:-//Temple B&#039;rith Sholom - ECPv6.15.17.1//NONSGML v1.0//EN
CALSCALE:GREGORIAN
METHOD:PUBLISH
X-ORIGINAL-URL:https://templebrithsholom.org
X-WR-CALDESC:Events for Temple B&#039;rith Sholom
REFRESH-INTERVAL;VALUE=DURATION:PT1H
X-Robots-Tag:noindex
X-PUBLISHED-TTL:PT1H
BEGIN:VTIMEZONE
TZID:America/Chicago
BEGIN:DAYLIGHT
TZOFFSETFROM:-0600
TZOFFSETTO:-0500
TZNAME:CDT
DTSTART:20280312T080000
END:DAYLIGHT
BEGIN:STANDARD
TZOFFSETFROM:-0500
TZOFFSETTO:-0600
TZNAME:CST
DTSTART:20281105T070000
END:STANDARD
BEGIN:DAYLIGHT
TZOFFSETFROM:-0600
TZOFFSETTO:-0500
TZNAME:CDT
DTSTART:20290311T080000
END:DAYLIGHT
BEGIN:STANDARD
TZOFFSETFROM:-0500
TZOFFSETTO:-0600
TZNAME:CST
DTSTART:20291104T070000
END:STANDARD
BEGIN:DAYLIGHT
TZOFFSETFROM:-0600
TZOFFSETTO:-0500
TZNAME:CDT
DTSTART:20300310T080000
END:DAYLIGHT
BEGIN:STANDARD
TZOFFSETFROM:-0500
TZOFFSETTO:-0600
TZNAME:CST
DTSTART:20301103T070000
END:STANDARD
END:VTIMEZONE
BEGIN:VEVENT
DTSTART;TZID=America/Chicago:20290420T180000
DTEND;TZID=America/Chicago:20290420T190000
DTSTAMP:20260424T181215
CREATED:20241224T175929Z
LAST-MODIFIED:20241224T180011Z
UID:10000370-1871402400-1871406000@templebrithsholom.org
SUMMARY:Shabbat Service
DESCRIPTION:Please login to your account to view this information.
URL:https://templebrithsholom.org/event/shabbat-service-2/2029-04-20/
LOCATION:Temble B’rith Sholom\, 1004 South 4th Street\, Springfield\, IL\, 62703\, United States
END:VEVENT
BEGIN:VEVENT
DTSTART;TZID=America/Chicago:20290421T100000
DTEND;TZID=America/Chicago:20290421T110000
DTSTAMP:20260424T181215
CREATED:20241224T183227Z
LAST-MODIFIED:20241224T183227Z
UID:10000618-1871460000-1871463600@templebrithsholom.org
SUMMARY:Torah Study
DESCRIPTION:Please login to your account to view this information.
URL:https://templebrithsholom.org/event/torah-study/2029-04-21/
LOCATION:Temble B’rith Sholom\, 1004 South 4th Street\, Springfield\, IL\, 62703\, United States
END:VEVENT
BEGIN:VEVENT
DTSTART;TZID=America/Chicago:20290427T180000
DTEND;TZID=America/Chicago:20290427T190000
DTSTAMP:20260424T181215
CREATED:20241224T175929Z
LAST-MODIFIED:20241224T180011Z
UID:10000371-1872007200-1872010800@templebrithsholom.org
SUMMARY:Shabbat Service
DESCRIPTION:Please login to your account to view this information.
URL:https://templebrithsholom.org/event/shabbat-service-2/2029-04-27/
LOCATION:Temble B’rith Sholom\, 1004 South 4th Street\, Springfield\, IL\, 62703\, United States
END:VEVENT
BEGIN:VEVENT
DTSTART;TZID=America/Chicago:20290428T100000
DTEND;TZID=America/Chicago:20290428T110000
DTSTAMP:20260424T181215
CREATED:20241224T183227Z
LAST-MODIFIED:20241224T183227Z
UID:10000619-1872064800-1872068400@templebrithsholom.org
SUMMARY:Torah Study
DESCRIPTION:Please login to your account to view this information.
URL:https://templebrithsholom.org/event/torah-study/2029-04-28/
LOCATION:Temble B’rith Sholom\, 1004 South 4th Street\, Springfield\, IL\, 62703\, United States
END:VEVENT
BEGIN:VEVENT
DTSTART;TZID=America/Chicago:20290504T173000
DTEND;TZID=America/Chicago:20290504T183000
DTSTAMP:20260424T181215
CREATED:20241224T175828Z
LAST-MODIFIED:20241224T175828Z
UID:10000109-1872610200-1872613800@templebrithsholom.org
SUMMARY:Shabbat Service
DESCRIPTION:Please login to your account to view this information.
URL:https://templebrithsholom.org/event/shabbat-service/2029-05-04/
LOCATION:Temble B’rith Sholom\, 1004 South 4th Street\, Springfield\, IL\, 62703\, United States
END:VEVENT
BEGIN:VEVENT
DTSTART;TZID=America/Chicago:20290505T100000
DTEND;TZID=America/Chicago:20290505T110000
DTSTAMP:20260424T181215
CREATED:20241224T183227Z
LAST-MODIFIED:20241224T183227Z
UID:10000620-1872669600-1872673200@templebrithsholom.org
SUMMARY:Torah Study
DESCRIPTION:Please login to your account to view this information.
URL:https://templebrithsholom.org/event/torah-study/2029-05-05/
LOCATION:Temble B’rith Sholom\, 1004 South 4th Street\, Springfield\, IL\, 62703\, United States
END:VEVENT
BEGIN:VEVENT
DTSTART;TZID=America/Chicago:20290511T173000
DTEND;TZID=America/Chicago:20290511T183000
DTSTAMP:20260424T181215
CREATED:20241224T175828Z
LAST-MODIFIED:20241224T175828Z
UID:10000110-1873215000-1873218600@templebrithsholom.org
SUMMARY:Shabbat Service
DESCRIPTION:Please login to your account to view this information.
URL:https://templebrithsholom.org/event/shabbat-service/2029-05-11/
LOCATION:Temble B’rith Sholom\, 1004 South 4th Street\, Springfield\, IL\, 62703\, United States
END:VEVENT
BEGIN:VEVENT
DTSTART;TZID=America/Chicago:20290512T100000
DTEND;TZID=America/Chicago:20290512T110000
DTSTAMP:20260424T181215
CREATED:20241224T183227Z
LAST-MODIFIED:20241224T183227Z
UID:10000621-1873274400-1873278000@templebrithsholom.org
SUMMARY:Torah Study
DESCRIPTION:Please login to your account to view this information.
URL:https://templebrithsholom.org/event/torah-study/2029-05-12/
LOCATION:Temble B’rith Sholom\, 1004 South 4th Street\, Springfield\, IL\, 62703\, United States
END:VEVENT
BEGIN:VEVENT
DTSTART;TZID=America/Chicago:20290518T180000
DTEND;TZID=America/Chicago:20290518T190000
DTSTAMP:20260424T181215
CREATED:20241224T175929Z
LAST-MODIFIED:20241224T180011Z
UID:10000372-1873821600-1873825200@templebrithsholom.org
SUMMARY:Shabbat Service
DESCRIPTION:Please login to your account to view this information.
URL:https://templebrithsholom.org/event/shabbat-service-2/2029-05-18/
LOCATION:Temble B’rith Sholom\, 1004 South 4th Street\, Springfield\, IL\, 62703\, United States
END:VEVENT
BEGIN:VEVENT
DTSTART;TZID=America/Chicago:20290519T100000
DTEND;TZID=America/Chicago:20290519T110000
DTSTAMP:20260424T181215
CREATED:20241224T183227Z
LAST-MODIFIED:20241224T183227Z
UID:10000622-1873879200-1873882800@templebrithsholom.org
SUMMARY:Torah Study
DESCRIPTION:Please login to your account to view this information.
URL:https://templebrithsholom.org/event/torah-study/2029-05-19/
LOCATION:Temble B’rith Sholom\, 1004 South 4th Street\, Springfield\, IL\, 62703\, United States
END:VEVENT
BEGIN:VEVENT
DTSTART;TZID=America/Chicago:20290525T180000
DTEND;TZID=America/Chicago:20290525T190000
DTSTAMP:20260424T181215
CREATED:20241224T175929Z
LAST-MODIFIED:20241224T180011Z
UID:10000373-1874426400-1874430000@templebrithsholom.org
SUMMARY:Shabbat Service
DESCRIPTION:Please login to your account to view this information.
URL:https://templebrithsholom.org/event/shabbat-service-2/2029-05-25/
LOCATION:Temble B’rith Sholom\, 1004 South 4th Street\, Springfield\, IL\, 62703\, United States
END:VEVENT
BEGIN:VEVENT
DTSTART;TZID=America/Chicago:20290526T100000
DTEND;TZID=America/Chicago:20290526T110000
DTSTAMP:20260424T181215
CREATED:20241224T183227Z
LAST-MODIFIED:20241224T183227Z
UID:10000623-1874484000-1874487600@templebrithsholom.org
SUMMARY:Torah Study
DESCRIPTION:Please login to your account to view this information.
URL:https://templebrithsholom.org/event/torah-study/2029-05-26/
LOCATION:Temble B’rith Sholom\, 1004 South 4th Street\, Springfield\, IL\, 62703\, United States
END:VEVENT
BEGIN:VEVENT
DTSTART;TZID=America/Chicago:20290601T173000
DTEND;TZID=America/Chicago:20290601T183000
DTSTAMP:20260424T181215
CREATED:20241224T175828Z
LAST-MODIFIED:20241224T175828Z
UID:10000111-1875029400-1875033000@templebrithsholom.org
SUMMARY:Shabbat Service
DESCRIPTION:Please login to your account to view this information.
URL:https://templebrithsholom.org/event/shabbat-service/2029-06-01/
LOCATION:Temble B’rith Sholom\, 1004 South 4th Street\, Springfield\, IL\, 62703\, United States
END:VEVENT
BEGIN:VEVENT
DTSTART;TZID=America/Chicago:20290602T100000
DTEND;TZID=America/Chicago:20290602T110000
DTSTAMP:20260424T181215
CREATED:20241224T183227Z
LAST-MODIFIED:20241224T183227Z
UID:10000624-1875088800-1875092400@templebrithsholom.org
SUMMARY:Torah Study
DESCRIPTION:Please login to your account to view this information.
URL:https://templebrithsholom.org/event/torah-study/2029-06-02/
LOCATION:Temble B’rith Sholom\, 1004 South 4th Street\, Springfield\, IL\, 62703\, United States
END:VEVENT
BEGIN:VEVENT
DTSTART;TZID=America/Chicago:20290608T173000
DTEND;TZID=America/Chicago:20290608T183000
DTSTAMP:20260424T181215
CREATED:20241224T175828Z
LAST-MODIFIED:20241224T175828Z
UID:10000112-1875634200-1875637800@templebrithsholom.org
SUMMARY:Shabbat Service
DESCRIPTION:Please login to your account to view this information.
URL:https://templebrithsholom.org/event/shabbat-service/2029-06-08/
LOCATION:Temble B’rith Sholom\, 1004 South 4th Street\, Springfield\, IL\, 62703\, United States
END:VEVENT
BEGIN:VEVENT
DTSTART;TZID=America/Chicago:20290609T100000
DTEND;TZID=America/Chicago:20290609T110000
DTSTAMP:20260424T181215
CREATED:20241224T183227Z
LAST-MODIFIED:20241224T183227Z
UID:10000625-1875693600-1875697200@templebrithsholom.org
SUMMARY:Torah Study
DESCRIPTION:Please login to your account to view this information.
URL:https://templebrithsholom.org/event/torah-study/2029-06-09/
LOCATION:Temble B’rith Sholom\, 1004 South 4th Street\, Springfield\, IL\, 62703\, United States
END:VEVENT
BEGIN:VEVENT
DTSTART;TZID=America/Chicago:20290615T180000
DTEND;TZID=America/Chicago:20290615T190000
DTSTAMP:20260424T181215
CREATED:20241224T175929Z
LAST-MODIFIED:20241224T180011Z
UID:10000374-1876240800-1876244400@templebrithsholom.org
SUMMARY:Shabbat Service
DESCRIPTION:Please login to your account to view this information.
URL:https://templebrithsholom.org/event/shabbat-service-2/2029-06-15/
LOCATION:Temble B’rith Sholom\, 1004 South 4th Street\, Springfield\, IL\, 62703\, United States
END:VEVENT
BEGIN:VEVENT
DTSTART;TZID=America/Chicago:20290616T100000
DTEND;TZID=America/Chicago:20290616T110000
DTSTAMP:20260424T181215
CREATED:20241224T183227Z
LAST-MODIFIED:20241224T183227Z
UID:10000626-1876298400-1876302000@templebrithsholom.org
SUMMARY:Torah Study
DESCRIPTION:Please login to your account to view this information.
URL:https://templebrithsholom.org/event/torah-study/2029-06-16/
LOCATION:Temble B’rith Sholom\, 1004 South 4th Street\, Springfield\, IL\, 62703\, United States
END:VEVENT
BEGIN:VEVENT
DTSTART;TZID=America/Chicago:20290622T180000
DTEND;TZID=America/Chicago:20290622T190000
DTSTAMP:20260424T181215
CREATED:20241224T175929Z
LAST-MODIFIED:20241224T180011Z
UID:10000375-1876845600-1876849200@templebrithsholom.org
SUMMARY:Shabbat Service
DESCRIPTION:Please login to your account to view this information.
URL:https://templebrithsholom.org/event/shabbat-service-2/2029-06-22/
LOCATION:Temble B’rith Sholom\, 1004 South 4th Street\, Springfield\, IL\, 62703\, United States
END:VEVENT
BEGIN:VEVENT
DTSTART;TZID=America/Chicago:20290623T100000
DTEND;TZID=America/Chicago:20290623T110000
DTSTAMP:20260424T181215
CREATED:20241224T183227Z
LAST-MODIFIED:20241224T183227Z
UID:10000627-1876903200-1876906800@templebrithsholom.org
SUMMARY:Torah Study
DESCRIPTION:Please login to your account to view this information.
URL:https://templebrithsholom.org/event/torah-study/2029-06-23/
LOCATION:Temble B’rith Sholom\, 1004 South 4th Street\, Springfield\, IL\, 62703\, United States
END:VEVENT
BEGIN:VEVENT
DTSTART;TZID=America/Chicago:20290629T180000
DTEND;TZID=America/Chicago:20290629T190000
DTSTAMP:20260424T181215
CREATED:20241224T175929Z
LAST-MODIFIED:20241224T180011Z
UID:10000376-1877450400-1877454000@templebrithsholom.org
SUMMARY:Shabbat Service
DESCRIPTION:Please login to your account to view this information.
URL:https://templebrithsholom.org/event/shabbat-service-2/2029-06-29/
LOCATION:Temble B’rith Sholom\, 1004 South 4th Street\, Springfield\, IL\, 62703\, United States
END:VEVENT
BEGIN:VEVENT
DTSTART;TZID=America/Chicago:20290630T100000
DTEND;TZID=America/Chicago:20290630T110000
DTSTAMP:20260424T181215
CREATED:20241224T183227Z
LAST-MODIFIED:20241224T183227Z
UID:10000628-1877508000-1877511600@templebrithsholom.org
SUMMARY:Torah Study
DESCRIPTION:Please login to your account to view this information.
URL:https://templebrithsholom.org/event/torah-study/2029-06-30/
LOCATION:Temble B’rith Sholom\, 1004 South 4th Street\, Springfield\, IL\, 62703\, United States
END:VEVENT
BEGIN:VEVENT
DTSTART;TZID=America/Chicago:20290706T173000
DTEND;TZID=America/Chicago:20290706T183000
DTSTAMP:20260424T181215
CREATED:20241224T175828Z
LAST-MODIFIED:20241224T175828Z
UID:10000113-1878053400-1878057000@templebrithsholom.org
SUMMARY:Shabbat Service
DESCRIPTION:Please login to your account to view this information.
URL:https://templebrithsholom.org/event/shabbat-service/2029-07-06/
LOCATION:Temble B’rith Sholom\, 1004 South 4th Street\, Springfield\, IL\, 62703\, United States
END:VEVENT
BEGIN:VEVENT
DTSTART;TZID=America/Chicago:20290707T100000
DTEND;TZID=America/Chicago:20290707T110000
DTSTAMP:20260424T181215
CREATED:20241224T183227Z
LAST-MODIFIED:20241224T183227Z
UID:10000629-1878112800-1878116400@templebrithsholom.org
SUMMARY:Torah Study
DESCRIPTION:Please login to your account to view this information.
URL:https://templebrithsholom.org/event/torah-study/2029-07-07/
LOCATION:Temble B’rith Sholom\, 1004 South 4th Street\, Springfield\, IL\, 62703\, United States
END:VEVENT
BEGIN:VEVENT
DTSTART;TZID=America/Chicago:20290713T173000
DTEND;TZID=America/Chicago:20290713T183000
DTSTAMP:20260424T181215
CREATED:20241224T175828Z
LAST-MODIFIED:20241224T175828Z
UID:10000114-1878658200-1878661800@templebrithsholom.org
SUMMARY:Shabbat Service
DESCRIPTION:Please login to your account to view this information.
URL:https://templebrithsholom.org/event/shabbat-service/2029-07-13/
LOCATION:Temble B’rith Sholom\, 1004 South 4th Street\, Springfield\, IL\, 62703\, United States
END:VEVENT
BEGIN:VEVENT
DTSTART;TZID=America/Chicago:20290714T100000
DTEND;TZID=America/Chicago:20290714T110000
DTSTAMP:20260424T181215
CREATED:20241224T183227Z
LAST-MODIFIED:20241224T183227Z
UID:10000630-1878717600-1878721200@templebrithsholom.org
SUMMARY:Torah Study
DESCRIPTION:Please login to your account to view this information.
URL:https://templebrithsholom.org/event/torah-study/2029-07-14/
LOCATION:Temble B’rith Sholom\, 1004 South 4th Street\, Springfield\, IL\, 62703\, United States
END:VEVENT
BEGIN:VEVENT
DTSTART;TZID=America/Chicago:20290720T180000
DTEND;TZID=America/Chicago:20290720T190000
DTSTAMP:20260424T181215
CREATED:20241224T175929Z
LAST-MODIFIED:20241224T180011Z
UID:10000377-1879264800-1879268400@templebrithsholom.org
SUMMARY:Shabbat Service
DESCRIPTION:Please login to your account to view this information.
URL:https://templebrithsholom.org/event/shabbat-service-2/2029-07-20/
LOCATION:Temble B’rith Sholom\, 1004 South 4th Street\, Springfield\, IL\, 62703\, United States
END:VEVENT
BEGIN:VEVENT
DTSTART;TZID=America/Chicago:20290721T100000
DTEND;TZID=America/Chicago:20290721T110000
DTSTAMP:20260424T181215
CREATED:20241224T183227Z
LAST-MODIFIED:20241224T183227Z
UID:10000631-1879322400-1879326000@templebrithsholom.org
SUMMARY:Torah Study
DESCRIPTION:Please login to your account to view this information.
URL:https://templebrithsholom.org/event/torah-study/2029-07-21/
LOCATION:Temble B’rith Sholom\, 1004 South 4th Street\, Springfield\, IL\, 62703\, United States
END:VEVENT
BEGIN:VEVENT
DTSTART;TZID=America/Chicago:20290727T180000
DTEND;TZID=America/Chicago:20290727T190000
DTSTAMP:20260424T181215
CREATED:20241224T175929Z
LAST-MODIFIED:20241224T180011Z
UID:10000378-1879869600-1879873200@templebrithsholom.org
SUMMARY:Shabbat Service
DESCRIPTION:Please login to your account to view this information.
URL:https://templebrithsholom.org/event/shabbat-service-2/2029-07-27/
LOCATION:Temble B’rith Sholom\, 1004 South 4th Street\, Springfield\, IL\, 62703\, United States
END:VEVENT
BEGIN:VEVENT
DTSTART;TZID=America/Chicago:20290728T100000
DTEND;TZID=America/Chicago:20290728T110000
DTSTAMP:20260424T181215
CREATED:20241224T183227Z
LAST-MODIFIED:20241224T183227Z
UID:10000632-1879927200-1879930800@templebrithsholom.org
SUMMARY:Torah Study
DESCRIPTION:Please login to your account to view this information.
URL:https://templebrithsholom.org/event/torah-study/2029-07-28/
LOCATION:Temble B’rith Sholom\, 1004 South 4th Street\, Springfield\, IL\, 62703\, United States
END:VEVENT
END:VCALENDAR