BEGIN:VCALENDAR
VERSION:2.0
PRODID:-//Temple B&#039;rith Sholom - ECPv6.15.17.1//NONSGML v1.0//EN
CALSCALE:GREGORIAN
METHOD:PUBLISH
X-WR-CALNAME:Temple B&#039;rith Sholom
X-ORIGINAL-URL:https://templebrithsholom.org
X-WR-CALDESC:Events for Temple B&#039;rith Sholom
REFRESH-INTERVAL;VALUE=DURATION:PT1H
X-Robots-Tag:noindex
X-PUBLISHED-TTL:PT1H
BEGIN:VTIMEZONE
TZID:America/Chicago
BEGIN:DAYLIGHT
TZOFFSETFROM:-0600
TZOFFSETTO:-0500
TZNAME:CDT
DTSTART:20270314T080000
END:DAYLIGHT
BEGIN:STANDARD
TZOFFSETFROM:-0500
TZOFFSETTO:-0600
TZNAME:CST
DTSTART:20271107T070000
END:STANDARD
BEGIN:DAYLIGHT
TZOFFSETFROM:-0600
TZOFFSETTO:-0500
TZNAME:CDT
DTSTART:20280312T080000
END:DAYLIGHT
BEGIN:STANDARD
TZOFFSETFROM:-0500
TZOFFSETTO:-0600
TZNAME:CST
DTSTART:20281105T070000
END:STANDARD
BEGIN:DAYLIGHT
TZOFFSETFROM:-0600
TZOFFSETTO:-0500
TZNAME:CDT
DTSTART:20290311T080000
END:DAYLIGHT
BEGIN:STANDARD
TZOFFSETFROM:-0500
TZOFFSETTO:-0600
TZNAME:CST
DTSTART:20291104T070000
END:STANDARD
BEGIN:DAYLIGHT
TZOFFSETFROM:-0600
TZOFFSETTO:-0500
TZNAME:CDT
DTSTART:20300310T080000
END:DAYLIGHT
BEGIN:STANDARD
TZOFFSETFROM:-0500
TZOFFSETTO:-0600
TZNAME:CST
DTSTART:20301103T070000
END:STANDARD
END:VTIMEZONE
BEGIN:VEVENT
DTSTART;TZID=America/Chicago:20281103T173000
DTEND;TZID=America/Chicago:20281103T183000
DTSTAMP:20260424T113342
CREATED:20241224T175828Z
LAST-MODIFIED:20241224T175828Z
UID:10000097-1856885400-1856889000@templebrithsholom.org
SUMMARY:Shabbat Service
DESCRIPTION:Please login to your account to view this information.
URL:https://templebrithsholom.org/event/shabbat-service/2028-11-03/
LOCATION:Temble B’rith Sholom\, 1004 South 4th Street\, Springfield\, IL\, 62703\, United States
END:VEVENT
BEGIN:VEVENT
DTSTART;TZID=America/Chicago:20281104T100000
DTEND;TZID=America/Chicago:20281104T110000
DTSTAMP:20260424T113342
CREATED:20241224T183227Z
LAST-MODIFIED:20241224T183227Z
UID:10000594-1856944800-1856948400@templebrithsholom.org
SUMMARY:Torah Study
DESCRIPTION:Please login to your account to view this information.
URL:https://templebrithsholom.org/event/torah-study/2028-11-04/
LOCATION:Temble B’rith Sholom\, 1004 South 4th Street\, Springfield\, IL\, 62703\, United States
END:VEVENT
BEGIN:VEVENT
DTSTART;TZID=America/Chicago:20281110T173000
DTEND;TZID=America/Chicago:20281110T183000
DTSTAMP:20260424T113342
CREATED:20241224T175828Z
LAST-MODIFIED:20241224T175828Z
UID:10000098-1857490200-1857493800@templebrithsholom.org
SUMMARY:Shabbat Service
DESCRIPTION:Please login to your account to view this information.
URL:https://templebrithsholom.org/event/shabbat-service/2028-11-10/
LOCATION:Temble B’rith Sholom\, 1004 South 4th Street\, Springfield\, IL\, 62703\, United States
END:VEVENT
BEGIN:VEVENT
DTSTART;TZID=America/Chicago:20281111T100000
DTEND;TZID=America/Chicago:20281111T110000
DTSTAMP:20260424T113342
CREATED:20241224T183227Z
LAST-MODIFIED:20241224T183227Z
UID:10000595-1857549600-1857553200@templebrithsholom.org
SUMMARY:Torah Study
DESCRIPTION:Please login to your account to view this information.
URL:https://templebrithsholom.org/event/torah-study/2028-11-11/
LOCATION:Temble B’rith Sholom\, 1004 South 4th Street\, Springfield\, IL\, 62703\, United States
END:VEVENT
BEGIN:VEVENT
DTSTART;TZID=America/Chicago:20281117T180000
DTEND;TZID=America/Chicago:20281117T190000
DTSTAMP:20260424T113342
CREATED:20241224T175929Z
LAST-MODIFIED:20241224T180011Z
UID:10000358-1858096800-1858100400@templebrithsholom.org
SUMMARY:Shabbat Service
DESCRIPTION:Please login to your account to view this information.
URL:https://templebrithsholom.org/event/shabbat-service-2/2028-11-17/
LOCATION:Temble B’rith Sholom\, 1004 South 4th Street\, Springfield\, IL\, 62703\, United States
END:VEVENT
BEGIN:VEVENT
DTSTART;TZID=America/Chicago:20281118T100000
DTEND;TZID=America/Chicago:20281118T110000
DTSTAMP:20260424T113342
CREATED:20241224T183227Z
LAST-MODIFIED:20241224T183227Z
UID:10000596-1858154400-1858158000@templebrithsholom.org
SUMMARY:Torah Study
DESCRIPTION:Please login to your account to view this information.
URL:https://templebrithsholom.org/event/torah-study/2028-11-18/
LOCATION:Temble B’rith Sholom\, 1004 South 4th Street\, Springfield\, IL\, 62703\, United States
END:VEVENT
BEGIN:VEVENT
DTSTART;TZID=America/Chicago:20281124T180000
DTEND;TZID=America/Chicago:20281124T190000
DTSTAMP:20260424T113342
CREATED:20241224T175929Z
LAST-MODIFIED:20241224T180011Z
UID:10000359-1858701600-1858705200@templebrithsholom.org
SUMMARY:Shabbat Service
DESCRIPTION:Please login to your account to view this information.
URL:https://templebrithsholom.org/event/shabbat-service-2/2028-11-24/
LOCATION:Temble B’rith Sholom\, 1004 South 4th Street\, Springfield\, IL\, 62703\, United States
END:VEVENT
BEGIN:VEVENT
DTSTART;TZID=America/Chicago:20281125T100000
DTEND;TZID=America/Chicago:20281125T110000
DTSTAMP:20260424T113342
CREATED:20241224T183227Z
LAST-MODIFIED:20241224T183227Z
UID:10000597-1858759200-1858762800@templebrithsholom.org
SUMMARY:Torah Study
DESCRIPTION:Please login to your account to view this information.
URL:https://templebrithsholom.org/event/torah-study/2028-11-25/
LOCATION:Temble B’rith Sholom\, 1004 South 4th Street\, Springfield\, IL\, 62703\, United States
END:VEVENT
BEGIN:VEVENT
DTSTART;TZID=America/Chicago:20281201T173000
DTEND;TZID=America/Chicago:20281201T183000
DTSTAMP:20260424T113342
CREATED:20241224T175828Z
LAST-MODIFIED:20241224T175828Z
UID:10000099-1859304600-1859308200@templebrithsholom.org
SUMMARY:Shabbat Service
DESCRIPTION:Please login to your account to view this information.
URL:https://templebrithsholom.org/event/shabbat-service/2028-12-01/
LOCATION:Temble B’rith Sholom\, 1004 South 4th Street\, Springfield\, IL\, 62703\, United States
END:VEVENT
BEGIN:VEVENT
DTSTART;TZID=America/Chicago:20281202T100000
DTEND;TZID=America/Chicago:20281202T110000
DTSTAMP:20260424T113342
CREATED:20241224T183227Z
LAST-MODIFIED:20241224T183227Z
UID:10000598-1859364000-1859367600@templebrithsholom.org
SUMMARY:Torah Study
DESCRIPTION:Please login to your account to view this information.
URL:https://templebrithsholom.org/event/torah-study/2028-12-02/
LOCATION:Temble B’rith Sholom\, 1004 South 4th Street\, Springfield\, IL\, 62703\, United States
END:VEVENT
BEGIN:VEVENT
DTSTART;TZID=America/Chicago:20281208T173000
DTEND;TZID=America/Chicago:20281208T183000
DTSTAMP:20260424T113342
CREATED:20241224T175828Z
LAST-MODIFIED:20241224T175828Z
UID:10000100-1859909400-1859913000@templebrithsholom.org
SUMMARY:Shabbat Service
DESCRIPTION:Please login to your account to view this information.
URL:https://templebrithsholom.org/event/shabbat-service/2028-12-08/
LOCATION:Temble B’rith Sholom\, 1004 South 4th Street\, Springfield\, IL\, 62703\, United States
END:VEVENT
BEGIN:VEVENT
DTSTART;TZID=America/Chicago:20281209T100000
DTEND;TZID=America/Chicago:20281209T110000
DTSTAMP:20260424T113342
CREATED:20241224T183227Z
LAST-MODIFIED:20241224T183227Z
UID:10000599-1859968800-1859972400@templebrithsholom.org
SUMMARY:Torah Study
DESCRIPTION:Please login to your account to view this information.
URL:https://templebrithsholom.org/event/torah-study/2028-12-09/
LOCATION:Temble B’rith Sholom\, 1004 South 4th Street\, Springfield\, IL\, 62703\, United States
END:VEVENT
BEGIN:VEVENT
DTSTART;TZID=America/Chicago:20281215T180000
DTEND;TZID=America/Chicago:20281215T190000
DTSTAMP:20260424T113342
CREATED:20241224T175929Z
LAST-MODIFIED:20241224T180011Z
UID:10000360-1860516000-1860519600@templebrithsholom.org
SUMMARY:Shabbat Service
DESCRIPTION:Please login to your account to view this information.
URL:https://templebrithsholom.org/event/shabbat-service-2/2028-12-15/
LOCATION:Temble B’rith Sholom\, 1004 South 4th Street\, Springfield\, IL\, 62703\, United States
END:VEVENT
BEGIN:VEVENT
DTSTART;TZID=America/Chicago:20281216T100000
DTEND;TZID=America/Chicago:20281216T110000
DTSTAMP:20260424T113342
CREATED:20241224T183227Z
LAST-MODIFIED:20241224T183227Z
UID:10000600-1860573600-1860577200@templebrithsholom.org
SUMMARY:Torah Study
DESCRIPTION:Please login to your account to view this information.
URL:https://templebrithsholom.org/event/torah-study/2028-12-16/
LOCATION:Temble B’rith Sholom\, 1004 South 4th Street\, Springfield\, IL\, 62703\, United States
END:VEVENT
BEGIN:VEVENT
DTSTART;TZID=America/Chicago:20281222T180000
DTEND;TZID=America/Chicago:20281222T190000
DTSTAMP:20260424T113342
CREATED:20241224T175929Z
LAST-MODIFIED:20241224T180011Z
UID:10000361-1861120800-1861124400@templebrithsholom.org
SUMMARY:Shabbat Service
DESCRIPTION:Please login to your account to view this information.
URL:https://templebrithsholom.org/event/shabbat-service-2/2028-12-22/
LOCATION:Temble B’rith Sholom\, 1004 South 4th Street\, Springfield\, IL\, 62703\, United States
END:VEVENT
BEGIN:VEVENT
DTSTART;TZID=America/Chicago:20281223T100000
DTEND;TZID=America/Chicago:20281223T110000
DTSTAMP:20260424T113342
CREATED:20241224T183227Z
LAST-MODIFIED:20241224T183227Z
UID:10000601-1861178400-1861182000@templebrithsholom.org
SUMMARY:Torah Study
DESCRIPTION:Please login to your account to view this information.
URL:https://templebrithsholom.org/event/torah-study/2028-12-23/
LOCATION:Temble B’rith Sholom\, 1004 South 4th Street\, Springfield\, IL\, 62703\, United States
END:VEVENT
BEGIN:VEVENT
DTSTART;TZID=America/Chicago:20281229T180000
DTEND;TZID=America/Chicago:20281229T190000
DTSTAMP:20260424T113342
CREATED:20241224T175929Z
LAST-MODIFIED:20241224T180011Z
UID:10000362-1861725600-1861729200@templebrithsholom.org
SUMMARY:Shabbat Service
DESCRIPTION:Please login to your account to view this information.
URL:https://templebrithsholom.org/event/shabbat-service-2/2028-12-29/
LOCATION:Temble B’rith Sholom\, 1004 South 4th Street\, Springfield\, IL\, 62703\, United States
END:VEVENT
BEGIN:VEVENT
DTSTART;TZID=America/Chicago:20281230T100000
DTEND;TZID=America/Chicago:20281230T110000
DTSTAMP:20260424T113342
CREATED:20241224T183227Z
LAST-MODIFIED:20241224T183227Z
UID:10000602-1861783200-1861786800@templebrithsholom.org
SUMMARY:Torah Study
DESCRIPTION:Please login to your account to view this information.
URL:https://templebrithsholom.org/event/torah-study/2028-12-30/
LOCATION:Temble B’rith Sholom\, 1004 South 4th Street\, Springfield\, IL\, 62703\, United States
END:VEVENT
BEGIN:VEVENT
DTSTART;TZID=America/Chicago:20290105T173000
DTEND;TZID=America/Chicago:20290105T183000
DTSTAMP:20260424T113342
CREATED:20241224T175828Z
LAST-MODIFIED:20241224T175828Z
UID:10000101-1862328600-1862332200@templebrithsholom.org
SUMMARY:Shabbat Service
DESCRIPTION:Please login to your account to view this information.
URL:https://templebrithsholom.org/event/shabbat-service/2029-01-05/
LOCATION:Temble B’rith Sholom\, 1004 South 4th Street\, Springfield\, IL\, 62703\, United States
END:VEVENT
BEGIN:VEVENT
DTSTART;TZID=America/Chicago:20290106T100000
DTEND;TZID=America/Chicago:20290106T110000
DTSTAMP:20260424T113342
CREATED:20241224T183227Z
LAST-MODIFIED:20241224T183227Z
UID:10000603-1862388000-1862391600@templebrithsholom.org
SUMMARY:Torah Study
DESCRIPTION:Please login to your account to view this information.
URL:https://templebrithsholom.org/event/torah-study/2029-01-06/
LOCATION:Temble B’rith Sholom\, 1004 South 4th Street\, Springfield\, IL\, 62703\, United States
END:VEVENT
BEGIN:VEVENT
DTSTART;TZID=America/Chicago:20290112T173000
DTEND;TZID=America/Chicago:20290112T183000
DTSTAMP:20260424T113342
CREATED:20241224T175828Z
LAST-MODIFIED:20241224T175828Z
UID:10000102-1862933400-1862937000@templebrithsholom.org
SUMMARY:Shabbat Service
DESCRIPTION:Please login to your account to view this information.
URL:https://templebrithsholom.org/event/shabbat-service/2029-01-12/
LOCATION:Temble B’rith Sholom\, 1004 South 4th Street\, Springfield\, IL\, 62703\, United States
END:VEVENT
BEGIN:VEVENT
DTSTART;TZID=America/Chicago:20290113T100000
DTEND;TZID=America/Chicago:20290113T110000
DTSTAMP:20260424T113342
CREATED:20241224T183227Z
LAST-MODIFIED:20241224T183227Z
UID:10000604-1862992800-1862996400@templebrithsholom.org
SUMMARY:Torah Study
DESCRIPTION:Please login to your account to view this information.
URL:https://templebrithsholom.org/event/torah-study/2029-01-13/
LOCATION:Temble B’rith Sholom\, 1004 South 4th Street\, Springfield\, IL\, 62703\, United States
END:VEVENT
BEGIN:VEVENT
DTSTART;TZID=America/Chicago:20290119T180000
DTEND;TZID=America/Chicago:20290119T190000
DTSTAMP:20260424T113342
CREATED:20241224T175929Z
LAST-MODIFIED:20241224T180011Z
UID:10000363-1863540000-1863543600@templebrithsholom.org
SUMMARY:Shabbat Service
DESCRIPTION:Please login to your account to view this information.
URL:https://templebrithsholom.org/event/shabbat-service-2/2029-01-19/
LOCATION:Temble B’rith Sholom\, 1004 South 4th Street\, Springfield\, IL\, 62703\, United States
END:VEVENT
BEGIN:VEVENT
DTSTART;TZID=America/Chicago:20290120T100000
DTEND;TZID=America/Chicago:20290120T110000
DTSTAMP:20260424T113342
CREATED:20241224T183227Z
LAST-MODIFIED:20241224T183227Z
UID:10000605-1863597600-1863601200@templebrithsholom.org
SUMMARY:Torah Study
DESCRIPTION:Please login to your account to view this information.
URL:https://templebrithsholom.org/event/torah-study/2029-01-20/
LOCATION:Temble B’rith Sholom\, 1004 South 4th Street\, Springfield\, IL\, 62703\, United States
END:VEVENT
BEGIN:VEVENT
DTSTART;TZID=America/Chicago:20290126T180000
DTEND;TZID=America/Chicago:20290126T190000
DTSTAMP:20260424T113342
CREATED:20241224T175929Z
LAST-MODIFIED:20241224T180011Z
UID:10000364-1864144800-1864148400@templebrithsholom.org
SUMMARY:Shabbat Service
DESCRIPTION:Please login to your account to view this information.
URL:https://templebrithsholom.org/event/shabbat-service-2/2029-01-26/
LOCATION:Temble B’rith Sholom\, 1004 South 4th Street\, Springfield\, IL\, 62703\, United States
END:VEVENT
BEGIN:VEVENT
DTSTART;TZID=America/Chicago:20290127T100000
DTEND;TZID=America/Chicago:20290127T110000
DTSTAMP:20260424T113342
CREATED:20241224T183227Z
LAST-MODIFIED:20241224T183227Z
UID:10000606-1864202400-1864206000@templebrithsholom.org
SUMMARY:Torah Study
DESCRIPTION:Please login to your account to view this information.
URL:https://templebrithsholom.org/event/torah-study/2029-01-27/
LOCATION:Temble B’rith Sholom\, 1004 South 4th Street\, Springfield\, IL\, 62703\, United States
END:VEVENT
BEGIN:VEVENT
DTSTART;TZID=America/Chicago:20290202T173000
DTEND;TZID=America/Chicago:20290202T183000
DTSTAMP:20260424T113342
CREATED:20241224T175828Z
LAST-MODIFIED:20241224T175828Z
UID:10000103-1864747800-1864751400@templebrithsholom.org
SUMMARY:Shabbat Service
DESCRIPTION:Please login to your account to view this information.
URL:https://templebrithsholom.org/event/shabbat-service/2029-02-02/
LOCATION:Temble B’rith Sholom\, 1004 South 4th Street\, Springfield\, IL\, 62703\, United States
END:VEVENT
BEGIN:VEVENT
DTSTART;TZID=America/Chicago:20290203T100000
DTEND;TZID=America/Chicago:20290203T110000
DTSTAMP:20260424T113342
CREATED:20241224T183227Z
LAST-MODIFIED:20241224T183227Z
UID:10000607-1864807200-1864810800@templebrithsholom.org
SUMMARY:Torah Study
DESCRIPTION:Please login to your account to view this information.
URL:https://templebrithsholom.org/event/torah-study/2029-02-03/
LOCATION:Temble B’rith Sholom\, 1004 South 4th Street\, Springfield\, IL\, 62703\, United States
END:VEVENT
BEGIN:VEVENT
DTSTART;TZID=America/Chicago:20290209T173000
DTEND;TZID=America/Chicago:20290209T183000
DTSTAMP:20260424T113342
CREATED:20241224T175828Z
LAST-MODIFIED:20241224T175828Z
UID:10000104-1865352600-1865356200@templebrithsholom.org
SUMMARY:Shabbat Service
DESCRIPTION:Please login to your account to view this information.
URL:https://templebrithsholom.org/event/shabbat-service/2029-02-09/
LOCATION:Temble B’rith Sholom\, 1004 South 4th Street\, Springfield\, IL\, 62703\, United States
END:VEVENT
BEGIN:VEVENT
DTSTART;TZID=America/Chicago:20290210T100000
DTEND;TZID=America/Chicago:20290210T110000
DTSTAMP:20260424T113342
CREATED:20241224T183227Z
LAST-MODIFIED:20241224T183227Z
UID:10000608-1865412000-1865415600@templebrithsholom.org
SUMMARY:Torah Study
DESCRIPTION:Please login to your account to view this information.
URL:https://templebrithsholom.org/event/torah-study/2029-02-10/
LOCATION:Temble B’rith Sholom\, 1004 South 4th Street\, Springfield\, IL\, 62703\, United States
END:VEVENT
END:VCALENDAR