BEGIN:VCALENDAR
VERSION:2.0
PRODID:-//Temple B&#039;rith Sholom - ECPv6.15.17.1//NONSGML v1.0//EN
CALSCALE:GREGORIAN
METHOD:PUBLISH
X-ORIGINAL-URL:https://templebrithsholom.org
X-WR-CALDESC:Events for Temple B&#039;rith Sholom
REFRESH-INTERVAL;VALUE=DURATION:PT1H
X-Robots-Tag:noindex
X-PUBLISHED-TTL:PT1H
BEGIN:VTIMEZONE
TZID:America/Chicago
BEGIN:DAYLIGHT
TZOFFSETFROM:-0600
TZOFFSETTO:-0500
TZNAME:CDT
DTSTART:20270314T080000
END:DAYLIGHT
BEGIN:STANDARD
TZOFFSETFROM:-0500
TZOFFSETTO:-0600
TZNAME:CST
DTSTART:20271107T070000
END:STANDARD
BEGIN:DAYLIGHT
TZOFFSETFROM:-0600
TZOFFSETTO:-0500
TZNAME:CDT
DTSTART:20280312T080000
END:DAYLIGHT
BEGIN:STANDARD
TZOFFSETFROM:-0500
TZOFFSETTO:-0600
TZNAME:CST
DTSTART:20281105T070000
END:STANDARD
BEGIN:DAYLIGHT
TZOFFSETFROM:-0600
TZOFFSETTO:-0500
TZNAME:CDT
DTSTART:20290311T080000
END:DAYLIGHT
BEGIN:STANDARD
TZOFFSETFROM:-0500
TZOFFSETTO:-0600
TZNAME:CST
DTSTART:20291104T070000
END:STANDARD
END:VTIMEZONE
BEGIN:VEVENT
DTSTART;TZID=America/Chicago:20280630T180000
DTEND;TZID=America/Chicago:20280630T190000
DTSTAMP:20260423T180449
CREATED:20241224T175929Z
LAST-MODIFIED:20241224T180011Z
UID:10000348-1846000800-1846004400@templebrithsholom.org
SUMMARY:Shabbat Service
DESCRIPTION:Please login to your account to view this information.
URL:https://templebrithsholom.org/event/shabbat-service-2/2028-06-30/
LOCATION:Temble B’rith Sholom\, 1004 South 4th Street\, Springfield\, IL\, 62703\, United States
END:VEVENT
BEGIN:VEVENT
DTSTART;TZID=America/Chicago:20280701T100000
DTEND;TZID=America/Chicago:20280701T110000
DTSTAMP:20260423T180449
CREATED:20241224T183227Z
LAST-MODIFIED:20241224T183227Z
UID:10000576-1846058400-1846062000@templebrithsholom.org
SUMMARY:Torah Study
DESCRIPTION:Please login to your account to view this information.
URL:https://templebrithsholom.org/event/torah-study/2028-07-01/
LOCATION:Temble B’rith Sholom\, 1004 South 4th Street\, Springfield\, IL\, 62703\, United States
END:VEVENT
BEGIN:VEVENT
DTSTART;TZID=America/Chicago:20280707T173000
DTEND;TZID=America/Chicago:20280707T183000
DTSTAMP:20260423T180449
CREATED:20241224T175828Z
LAST-MODIFIED:20241224T175828Z
UID:10000089-1846603800-1846607400@templebrithsholom.org
SUMMARY:Shabbat Service
DESCRIPTION:Please login to your account to view this information.
URL:https://templebrithsholom.org/event/shabbat-service/2028-07-07/
LOCATION:Temble B’rith Sholom\, 1004 South 4th Street\, Springfield\, IL\, 62703\, United States
END:VEVENT
BEGIN:VEVENT
DTSTART;TZID=America/Chicago:20280708T100000
DTEND;TZID=America/Chicago:20280708T110000
DTSTAMP:20260423T180449
CREATED:20241224T183227Z
LAST-MODIFIED:20241224T183227Z
UID:10000577-1846663200-1846666800@templebrithsholom.org
SUMMARY:Torah Study
DESCRIPTION:Please login to your account to view this information.
URL:https://templebrithsholom.org/event/torah-study/2028-07-08/
LOCATION:Temble B’rith Sholom\, 1004 South 4th Street\, Springfield\, IL\, 62703\, United States
END:VEVENT
BEGIN:VEVENT
DTSTART;TZID=America/Chicago:20280714T173000
DTEND;TZID=America/Chicago:20280714T183000
DTSTAMP:20260423T180449
CREATED:20241224T175828Z
LAST-MODIFIED:20241224T175828Z
UID:10000090-1847208600-1847212200@templebrithsholom.org
SUMMARY:Shabbat Service
DESCRIPTION:Please login to your account to view this information.
URL:https://templebrithsholom.org/event/shabbat-service/2028-07-14/
LOCATION:Temble B’rith Sholom\, 1004 South 4th Street\, Springfield\, IL\, 62703\, United States
END:VEVENT
BEGIN:VEVENT
DTSTART;TZID=America/Chicago:20280715T100000
DTEND;TZID=America/Chicago:20280715T110000
DTSTAMP:20260423T180449
CREATED:20241224T183227Z
LAST-MODIFIED:20241224T183227Z
UID:10000578-1847268000-1847271600@templebrithsholom.org
SUMMARY:Torah Study
DESCRIPTION:Please login to your account to view this information.
URL:https://templebrithsholom.org/event/torah-study/2028-07-15/
LOCATION:Temble B’rith Sholom\, 1004 South 4th Street\, Springfield\, IL\, 62703\, United States
END:VEVENT
BEGIN:VEVENT
DTSTART;TZID=America/Chicago:20280721T180000
DTEND;TZID=America/Chicago:20280721T190000
DTSTAMP:20260423T180449
CREATED:20241224T175929Z
LAST-MODIFIED:20241224T180011Z
UID:10000349-1847815200-1847818800@templebrithsholom.org
SUMMARY:Shabbat Service
DESCRIPTION:Please login to your account to view this information.
URL:https://templebrithsholom.org/event/shabbat-service-2/2028-07-21/
LOCATION:Temble B’rith Sholom\, 1004 South 4th Street\, Springfield\, IL\, 62703\, United States
END:VEVENT
BEGIN:VEVENT
DTSTART;TZID=America/Chicago:20280722T100000
DTEND;TZID=America/Chicago:20280722T110000
DTSTAMP:20260423T180449
CREATED:20241224T183227Z
LAST-MODIFIED:20241224T183227Z
UID:10000579-1847872800-1847876400@templebrithsholom.org
SUMMARY:Torah Study
DESCRIPTION:Please login to your account to view this information.
URL:https://templebrithsholom.org/event/torah-study/2028-07-22/
LOCATION:Temble B’rith Sholom\, 1004 South 4th Street\, Springfield\, IL\, 62703\, United States
END:VEVENT
BEGIN:VEVENT
DTSTART;TZID=America/Chicago:20280728T180000
DTEND;TZID=America/Chicago:20280728T190000
DTSTAMP:20260423T180449
CREATED:20241224T175929Z
LAST-MODIFIED:20241224T180011Z
UID:10000350-1848420000-1848423600@templebrithsholom.org
SUMMARY:Shabbat Service
DESCRIPTION:Please login to your account to view this information.
URL:https://templebrithsholom.org/event/shabbat-service-2/2028-07-28/
LOCATION:Temble B’rith Sholom\, 1004 South 4th Street\, Springfield\, IL\, 62703\, United States
END:VEVENT
BEGIN:VEVENT
DTSTART;TZID=America/Chicago:20280729T100000
DTEND;TZID=America/Chicago:20280729T110000
DTSTAMP:20260423T180449
CREATED:20241224T183227Z
LAST-MODIFIED:20241224T183227Z
UID:10000580-1848477600-1848481200@templebrithsholom.org
SUMMARY:Torah Study
DESCRIPTION:Please login to your account to view this information.
URL:https://templebrithsholom.org/event/torah-study/2028-07-29/
LOCATION:Temble B’rith Sholom\, 1004 South 4th Street\, Springfield\, IL\, 62703\, United States
END:VEVENT
BEGIN:VEVENT
DTSTART;TZID=America/Chicago:20280804T173000
DTEND;TZID=America/Chicago:20280804T183000
DTSTAMP:20260423T180449
CREATED:20241224T175828Z
LAST-MODIFIED:20241224T175828Z
UID:10000091-1849023000-1849026600@templebrithsholom.org
SUMMARY:Shabbat Service
DESCRIPTION:Please login to your account to view this information.
URL:https://templebrithsholom.org/event/shabbat-service/2028-08-04/
LOCATION:Temble B’rith Sholom\, 1004 South 4th Street\, Springfield\, IL\, 62703\, United States
END:VEVENT
BEGIN:VEVENT
DTSTART;TZID=America/Chicago:20280805T100000
DTEND;TZID=America/Chicago:20280805T110000
DTSTAMP:20260423T180449
CREATED:20241224T183227Z
LAST-MODIFIED:20241224T183227Z
UID:10000581-1849082400-1849086000@templebrithsholom.org
SUMMARY:Torah Study
DESCRIPTION:Please login to your account to view this information.
URL:https://templebrithsholom.org/event/torah-study/2028-08-05/
LOCATION:Temble B’rith Sholom\, 1004 South 4th Street\, Springfield\, IL\, 62703\, United States
END:VEVENT
BEGIN:VEVENT
DTSTART;TZID=America/Chicago:20280811T173000
DTEND;TZID=America/Chicago:20280811T183000
DTSTAMP:20260423T180449
CREATED:20241224T175828Z
LAST-MODIFIED:20241224T175828Z
UID:10000092-1849627800-1849631400@templebrithsholom.org
SUMMARY:Shabbat Service
DESCRIPTION:Please login to your account to view this information.
URL:https://templebrithsholom.org/event/shabbat-service/2028-08-11/
LOCATION:Temble B’rith Sholom\, 1004 South 4th Street\, Springfield\, IL\, 62703\, United States
END:VEVENT
BEGIN:VEVENT
DTSTART;TZID=America/Chicago:20280812T100000
DTEND;TZID=America/Chicago:20280812T110000
DTSTAMP:20260423T180449
CREATED:20241224T183227Z
LAST-MODIFIED:20241224T183227Z
UID:10000582-1849687200-1849690800@templebrithsholom.org
SUMMARY:Torah Study
DESCRIPTION:Please login to your account to view this information.
URL:https://templebrithsholom.org/event/torah-study/2028-08-12/
LOCATION:Temble B’rith Sholom\, 1004 South 4th Street\, Springfield\, IL\, 62703\, United States
END:VEVENT
BEGIN:VEVENT
DTSTART;TZID=America/Chicago:20280818T180000
DTEND;TZID=America/Chicago:20280818T190000
DTSTAMP:20260423T180449
CREATED:20241224T175929Z
LAST-MODIFIED:20241224T180011Z
UID:10000351-1850234400-1850238000@templebrithsholom.org
SUMMARY:Shabbat Service
DESCRIPTION:Please login to your account to view this information.
URL:https://templebrithsholom.org/event/shabbat-service-2/2028-08-18/
LOCATION:Temble B’rith Sholom\, 1004 South 4th Street\, Springfield\, IL\, 62703\, United States
END:VEVENT
BEGIN:VEVENT
DTSTART;TZID=America/Chicago:20280819T100000
DTEND;TZID=America/Chicago:20280819T110000
DTSTAMP:20260423T180449
CREATED:20241224T183227Z
LAST-MODIFIED:20241224T183227Z
UID:10000583-1850292000-1850295600@templebrithsholom.org
SUMMARY:Torah Study
DESCRIPTION:Please login to your account to view this information.
URL:https://templebrithsholom.org/event/torah-study/2028-08-19/
LOCATION:Temble B’rith Sholom\, 1004 South 4th Street\, Springfield\, IL\, 62703\, United States
END:VEVENT
BEGIN:VEVENT
DTSTART;TZID=America/Chicago:20280825T180000
DTEND;TZID=America/Chicago:20280825T190000
DTSTAMP:20260423T180449
CREATED:20241224T175929Z
LAST-MODIFIED:20241224T180011Z
UID:10000352-1850839200-1850842800@templebrithsholom.org
SUMMARY:Shabbat Service
DESCRIPTION:Please login to your account to view this information.
URL:https://templebrithsholom.org/event/shabbat-service-2/2028-08-25/
LOCATION:Temble B’rith Sholom\, 1004 South 4th Street\, Springfield\, IL\, 62703\, United States
END:VEVENT
BEGIN:VEVENT
DTSTART;TZID=America/Chicago:20280826T100000
DTEND;TZID=America/Chicago:20280826T110000
DTSTAMP:20260423T180449
CREATED:20241224T183227Z
LAST-MODIFIED:20241224T183227Z
UID:10000584-1850896800-1850900400@templebrithsholom.org
SUMMARY:Torah Study
DESCRIPTION:Please login to your account to view this information.
URL:https://templebrithsholom.org/event/torah-study/2028-08-26/
LOCATION:Temble B’rith Sholom\, 1004 South 4th Street\, Springfield\, IL\, 62703\, United States
END:VEVENT
BEGIN:VEVENT
DTSTART;TZID=America/Chicago:20280901T173000
DTEND;TZID=America/Chicago:20280901T183000
DTSTAMP:20260423T180449
CREATED:20241224T175828Z
LAST-MODIFIED:20241224T175828Z
UID:10000093-1851442200-1851445800@templebrithsholom.org
SUMMARY:Shabbat Service
DESCRIPTION:Please login to your account to view this information.
URL:https://templebrithsholom.org/event/shabbat-service/2028-09-01/
LOCATION:Temble B’rith Sholom\, 1004 South 4th Street\, Springfield\, IL\, 62703\, United States
END:VEVENT
BEGIN:VEVENT
DTSTART;TZID=America/Chicago:20280902T100000
DTEND;TZID=America/Chicago:20280902T110000
DTSTAMP:20260423T180449
CREATED:20241224T183227Z
LAST-MODIFIED:20241224T183227Z
UID:10000585-1851501600-1851505200@templebrithsholom.org
SUMMARY:Torah Study
DESCRIPTION:Please login to your account to view this information.
URL:https://templebrithsholom.org/event/torah-study/2028-09-02/
LOCATION:Temble B’rith Sholom\, 1004 South 4th Street\, Springfield\, IL\, 62703\, United States
END:VEVENT
BEGIN:VEVENT
DTSTART;TZID=America/Chicago:20280908T173000
DTEND;TZID=America/Chicago:20280908T183000
DTSTAMP:20260423T180449
CREATED:20241224T175828Z
LAST-MODIFIED:20241224T175828Z
UID:10000094-1852047000-1852050600@templebrithsholom.org
SUMMARY:Shabbat Service
DESCRIPTION:Please login to your account to view this information.
URL:https://templebrithsholom.org/event/shabbat-service/2028-09-08/
LOCATION:Temble B’rith Sholom\, 1004 South 4th Street\, Springfield\, IL\, 62703\, United States
END:VEVENT
BEGIN:VEVENT
DTSTART;TZID=America/Chicago:20280909T100000
DTEND;TZID=America/Chicago:20280909T110000
DTSTAMP:20260423T180449
CREATED:20241224T183227Z
LAST-MODIFIED:20241224T183227Z
UID:10000586-1852106400-1852110000@templebrithsholom.org
SUMMARY:Torah Study
DESCRIPTION:Please login to your account to view this information.
URL:https://templebrithsholom.org/event/torah-study/2028-09-09/
LOCATION:Temble B’rith Sholom\, 1004 South 4th Street\, Springfield\, IL\, 62703\, United States
END:VEVENT
BEGIN:VEVENT
DTSTART;TZID=America/Chicago:20280915T180000
DTEND;TZID=America/Chicago:20280915T190000
DTSTAMP:20260423T180449
CREATED:20241224T175929Z
LAST-MODIFIED:20241224T180011Z
UID:10000353-1852653600-1852657200@templebrithsholom.org
SUMMARY:Shabbat Service
DESCRIPTION:Please login to your account to view this information.
URL:https://templebrithsholom.org/event/shabbat-service-2/2028-09-15/
LOCATION:Temble B’rith Sholom\, 1004 South 4th Street\, Springfield\, IL\, 62703\, United States
END:VEVENT
BEGIN:VEVENT
DTSTART;TZID=America/Chicago:20280916T100000
DTEND;TZID=America/Chicago:20280916T110000
DTSTAMP:20260423T180449
CREATED:20241224T183227Z
LAST-MODIFIED:20241224T183227Z
UID:10000587-1852711200-1852714800@templebrithsholom.org
SUMMARY:Torah Study
DESCRIPTION:Please login to your account to view this information.
URL:https://templebrithsholom.org/event/torah-study/2028-09-16/
LOCATION:Temble B’rith Sholom\, 1004 South 4th Street\, Springfield\, IL\, 62703\, United States
END:VEVENT
BEGIN:VEVENT
DTSTART;TZID=America/Chicago:20280922T180000
DTEND;TZID=America/Chicago:20280922T190000
DTSTAMP:20260423T180449
CREATED:20241224T175929Z
LAST-MODIFIED:20241224T180011Z
UID:10000354-1853258400-1853262000@templebrithsholom.org
SUMMARY:Shabbat Service
DESCRIPTION:Please login to your account to view this information.
URL:https://templebrithsholom.org/event/shabbat-service-2/2028-09-22/
LOCATION:Temble B’rith Sholom\, 1004 South 4th Street\, Springfield\, IL\, 62703\, United States
END:VEVENT
BEGIN:VEVENT
DTSTART;TZID=America/Chicago:20280923T100000
DTEND;TZID=America/Chicago:20280923T110000
DTSTAMP:20260423T180449
CREATED:20241224T183227Z
LAST-MODIFIED:20241224T183227Z
UID:10000588-1853316000-1853319600@templebrithsholom.org
SUMMARY:Torah Study
DESCRIPTION:Please login to your account to view this information.
URL:https://templebrithsholom.org/event/torah-study/2028-09-23/
LOCATION:Temble B’rith Sholom\, 1004 South 4th Street\, Springfield\, IL\, 62703\, United States
END:VEVENT
BEGIN:VEVENT
DTSTART;TZID=America/Chicago:20280929T180000
DTEND;TZID=America/Chicago:20280929T190000
DTSTAMP:20260423T180449
CREATED:20241224T175929Z
LAST-MODIFIED:20241224T180011Z
UID:10000355-1853863200-1853866800@templebrithsholom.org
SUMMARY:Shabbat Service
DESCRIPTION:Please login to your account to view this information.
URL:https://templebrithsholom.org/event/shabbat-service-2/2028-09-29/
LOCATION:Temble B’rith Sholom\, 1004 South 4th Street\, Springfield\, IL\, 62703\, United States
END:VEVENT
BEGIN:VEVENT
DTSTART;TZID=America/Chicago:20280930T100000
DTEND;TZID=America/Chicago:20280930T110000
DTSTAMP:20260423T180449
CREATED:20241224T183227Z
LAST-MODIFIED:20241224T183227Z
UID:10000589-1853920800-1853924400@templebrithsholom.org
SUMMARY:Torah Study
DESCRIPTION:Please login to your account to view this information.
URL:https://templebrithsholom.org/event/torah-study/2028-09-30/
LOCATION:Temble B’rith Sholom\, 1004 South 4th Street\, Springfield\, IL\, 62703\, United States
END:VEVENT
BEGIN:VEVENT
DTSTART;TZID=America/Chicago:20281006T173000
DTEND;TZID=America/Chicago:20281006T183000
DTSTAMP:20260423T180449
CREATED:20241224T175828Z
LAST-MODIFIED:20241224T175828Z
UID:10000095-1854466200-1854469800@templebrithsholom.org
SUMMARY:Shabbat Service
DESCRIPTION:Please login to your account to view this information.
URL:https://templebrithsholom.org/event/shabbat-service/2028-10-06/
LOCATION:Temble B’rith Sholom\, 1004 South 4th Street\, Springfield\, IL\, 62703\, United States
END:VEVENT
BEGIN:VEVENT
DTSTART;TZID=America/Chicago:20281007T100000
DTEND;TZID=America/Chicago:20281007T110000
DTSTAMP:20260423T180449
CREATED:20241224T183227Z
LAST-MODIFIED:20241224T183227Z
UID:10000590-1854525600-1854529200@templebrithsholom.org
SUMMARY:Torah Study
DESCRIPTION:Please login to your account to view this information.
URL:https://templebrithsholom.org/event/torah-study/2028-10-07/
LOCATION:Temble B’rith Sholom\, 1004 South 4th Street\, Springfield\, IL\, 62703\, United States
END:VEVENT
END:VCALENDAR