BEGIN:VCALENDAR
VERSION:2.0
PRODID:-//Temple B&#039;rith Sholom - ECPv6.15.17.1//NONSGML v1.0//EN
CALSCALE:GREGORIAN
METHOD:PUBLISH
X-WR-CALNAME:Temple B&#039;rith Sholom
X-ORIGINAL-URL:https://templebrithsholom.org
X-WR-CALDESC:Events for Temple B&#039;rith Sholom
REFRESH-INTERVAL;VALUE=DURATION:PT1H
X-Robots-Tag:noindex
X-PUBLISHED-TTL:PT1H
BEGIN:VTIMEZONE
TZID:America/Chicago
BEGIN:DAYLIGHT
TZOFFSETFROM:-0600
TZOFFSETTO:-0500
TZNAME:CDT
DTSTART:20250309T080000
END:DAYLIGHT
BEGIN:STANDARD
TZOFFSETFROM:-0500
TZOFFSETTO:-0600
TZNAME:CST
DTSTART:20251102T070000
END:STANDARD
BEGIN:DAYLIGHT
TZOFFSETFROM:-0600
TZOFFSETTO:-0500
TZNAME:CDT
DTSTART:20260308T080000
END:DAYLIGHT
BEGIN:STANDARD
TZOFFSETFROM:-0500
TZOFFSETTO:-0600
TZNAME:CST
DTSTART:20261101T070000
END:STANDARD
BEGIN:DAYLIGHT
TZOFFSETFROM:-0600
TZOFFSETTO:-0500
TZNAME:CDT
DTSTART:20270314T080000
END:DAYLIGHT
BEGIN:STANDARD
TZOFFSETFROM:-0500
TZOFFSETTO:-0600
TZNAME:CST
DTSTART:20271107T070000
END:STANDARD
END:VTIMEZONE
BEGIN:VEVENT
DTSTART;TZID=America/Chicago:20260605T173000
DTEND;TZID=America/Chicago:20260605T183000
DTSTAMP:20260422T110940
CREATED:20241224T175828Z
LAST-MODIFIED:20241224T175828Z
UID:10000039-1780680600-1780684200@templebrithsholom.org
SUMMARY:Shabbat Service
DESCRIPTION:Please login to your account to view this information.
URL:https://templebrithsholom.org/event/shabbat-service/2026-06-05/
LOCATION:Temble B’rith Sholom\, 1004 South 4th Street\, Springfield\, IL\, 62703\, United States
END:VEVENT
BEGIN:VEVENT
DTSTART;TZID=America/Chicago:20260606T100000
DTEND;TZID=America/Chicago:20260606T110000
DTSTAMP:20260422T110940
CREATED:20241224T183227Z
LAST-MODIFIED:20241224T183227Z
UID:10000468-1780740000-1780743600@templebrithsholom.org
SUMMARY:Torah Study
DESCRIPTION:Please login to your account to view this information.
URL:https://templebrithsholom.org/event/torah-study/2026-06-06/
LOCATION:Temble B’rith Sholom\, 1004 South 4th Street\, Springfield\, IL\, 62703\, United States
END:VEVENT
BEGIN:VEVENT
DTSTART;TZID=America/Chicago:20260612T173000
DTEND;TZID=America/Chicago:20260612T183000
DTSTAMP:20260422T110940
CREATED:20241224T175828Z
LAST-MODIFIED:20241224T175828Z
UID:10000040-1781285400-1781289000@templebrithsholom.org
SUMMARY:Shabbat Service
DESCRIPTION:Please login to your account to view this information.
URL:https://templebrithsholom.org/event/shabbat-service/2026-06-12/
LOCATION:Temble B’rith Sholom\, 1004 South 4th Street\, Springfield\, IL\, 62703\, United States
END:VEVENT
BEGIN:VEVENT
DTSTART;TZID=America/Chicago:20260613T100000
DTEND;TZID=America/Chicago:20260613T110000
DTSTAMP:20260422T110940
CREATED:20241224T183227Z
LAST-MODIFIED:20241224T183227Z
UID:10000469-1781344800-1781348400@templebrithsholom.org
SUMMARY:Torah Study
DESCRIPTION:Please login to your account to view this information.
URL:https://templebrithsholom.org/event/torah-study/2026-06-13/
LOCATION:Temble B’rith Sholom\, 1004 South 4th Street\, Springfield\, IL\, 62703\, United States
END:VEVENT
BEGIN:VEVENT
DTSTART;TZID=America/Chicago:20260619T180000
DTEND;TZID=America/Chicago:20260619T190000
DTSTAMP:20260422T110940
CREATED:20241224T175929Z
LAST-MODIFIED:20241224T180011Z
UID:10000290-1781892000-1781895600@templebrithsholom.org
SUMMARY:Shabbat Service
DESCRIPTION:Please login to your account to view this information.
URL:https://templebrithsholom.org/event/shabbat-service-2/2026-06-19/
LOCATION:Temble B’rith Sholom\, 1004 South 4th Street\, Springfield\, IL\, 62703\, United States
END:VEVENT
BEGIN:VEVENT
DTSTART;TZID=America/Chicago:20260620T100000
DTEND;TZID=America/Chicago:20260620T110000
DTSTAMP:20260422T110940
CREATED:20241224T183227Z
LAST-MODIFIED:20241224T183227Z
UID:10000470-1781949600-1781953200@templebrithsholom.org
SUMMARY:Torah Study
DESCRIPTION:Please login to your account to view this information.
URL:https://templebrithsholom.org/event/torah-study/2026-06-20/
LOCATION:Temble B’rith Sholom\, 1004 South 4th Street\, Springfield\, IL\, 62703\, United States
END:VEVENT
BEGIN:VEVENT
DTSTART;TZID=America/Chicago:20260626T180000
DTEND;TZID=America/Chicago:20260626T190000
DTSTAMP:20260422T110940
CREATED:20241224T175929Z
LAST-MODIFIED:20241224T180011Z
UID:10000291-1782496800-1782500400@templebrithsholom.org
SUMMARY:Shabbat Service
DESCRIPTION:Please login to your account to view this information.
URL:https://templebrithsholom.org/event/shabbat-service-2/2026-06-26/
LOCATION:Temble B’rith Sholom\, 1004 South 4th Street\, Springfield\, IL\, 62703\, United States
END:VEVENT
BEGIN:VEVENT
DTSTART;TZID=America/Chicago:20260627T100000
DTEND;TZID=America/Chicago:20260627T110000
DTSTAMP:20260422T110940
CREATED:20241224T183227Z
LAST-MODIFIED:20241224T183227Z
UID:10000471-1782554400-1782558000@templebrithsholom.org
SUMMARY:Torah Study
DESCRIPTION:Please login to your account to view this information.
URL:https://templebrithsholom.org/event/torah-study/2026-06-27/
LOCATION:Temble B’rith Sholom\, 1004 South 4th Street\, Springfield\, IL\, 62703\, United States
END:VEVENT
BEGIN:VEVENT
DTSTART;TZID=America/Chicago:20260703T173000
DTEND;TZID=America/Chicago:20260703T183000
DTSTAMP:20260422T110940
CREATED:20241224T175828Z
LAST-MODIFIED:20241224T175828Z
UID:10000041-1783099800-1783103400@templebrithsholom.org
SUMMARY:Shabbat Service
DESCRIPTION:Please login to your account to view this information.
URL:https://templebrithsholom.org/event/shabbat-service/2026-07-03/
LOCATION:Temble B’rith Sholom\, 1004 South 4th Street\, Springfield\, IL\, 62703\, United States
END:VEVENT
BEGIN:VEVENT
DTSTART;TZID=America/Chicago:20260704T100000
DTEND;TZID=America/Chicago:20260704T110000
DTSTAMP:20260422T110940
CREATED:20241224T183227Z
LAST-MODIFIED:20241224T183227Z
UID:10000472-1783159200-1783162800@templebrithsholom.org
SUMMARY:Torah Study
DESCRIPTION:Please login to your account to view this information.
URL:https://templebrithsholom.org/event/torah-study/2026-07-04/
LOCATION:Temble B’rith Sholom\, 1004 South 4th Street\, Springfield\, IL\, 62703\, United States
END:VEVENT
BEGIN:VEVENT
DTSTART;TZID=America/Chicago:20260710T173000
DTEND;TZID=America/Chicago:20260710T183000
DTSTAMP:20260422T110940
CREATED:20241224T175828Z
LAST-MODIFIED:20241224T175828Z
UID:10000042-1783704600-1783708200@templebrithsholom.org
SUMMARY:Shabbat Service
DESCRIPTION:Please login to your account to view this information.
URL:https://templebrithsholom.org/event/shabbat-service/2026-07-10/
LOCATION:Temble B’rith Sholom\, 1004 South 4th Street\, Springfield\, IL\, 62703\, United States
END:VEVENT
BEGIN:VEVENT
DTSTART;TZID=America/Chicago:20260711T100000
DTEND;TZID=America/Chicago:20260711T110000
DTSTAMP:20260422T110940
CREATED:20241224T183227Z
LAST-MODIFIED:20241224T183227Z
UID:10000473-1783764000-1783767600@templebrithsholom.org
SUMMARY:Torah Study
DESCRIPTION:Please login to your account to view this information.
URL:https://templebrithsholom.org/event/torah-study/2026-07-11/
LOCATION:Temble B’rith Sholom\, 1004 South 4th Street\, Springfield\, IL\, 62703\, United States
END:VEVENT
BEGIN:VEVENT
DTSTART;TZID=America/Chicago:20260717T180000
DTEND;TZID=America/Chicago:20260717T190000
DTSTAMP:20260422T110940
CREATED:20241224T175929Z
LAST-MODIFIED:20241224T180011Z
UID:10000292-1784311200-1784314800@templebrithsholom.org
SUMMARY:Shabbat Service
DESCRIPTION:Please login to your account to view this information.
URL:https://templebrithsholom.org/event/shabbat-service-2/2026-07-17/
LOCATION:Temble B’rith Sholom\, 1004 South 4th Street\, Springfield\, IL\, 62703\, United States
END:VEVENT
BEGIN:VEVENT
DTSTART;TZID=America/Chicago:20260718T100000
DTEND;TZID=America/Chicago:20260718T110000
DTSTAMP:20260422T110940
CREATED:20241224T183227Z
LAST-MODIFIED:20241224T183227Z
UID:10000474-1784368800-1784372400@templebrithsholom.org
SUMMARY:Torah Study
DESCRIPTION:Please login to your account to view this information.
URL:https://templebrithsholom.org/event/torah-study/2026-07-18/
LOCATION:Temble B’rith Sholom\, 1004 South 4th Street\, Springfield\, IL\, 62703\, United States
END:VEVENT
BEGIN:VEVENT
DTSTART;TZID=America/Chicago:20260724T180000
DTEND;TZID=America/Chicago:20260724T190000
DTSTAMP:20260422T110940
CREATED:20241224T175929Z
LAST-MODIFIED:20241224T180011Z
UID:10000293-1784916000-1784919600@templebrithsholom.org
SUMMARY:Shabbat Service
DESCRIPTION:Please login to your account to view this information.
URL:https://templebrithsholom.org/event/shabbat-service-2/2026-07-24/
LOCATION:Temble B’rith Sholom\, 1004 South 4th Street\, Springfield\, IL\, 62703\, United States
END:VEVENT
BEGIN:VEVENT
DTSTART;TZID=America/Chicago:20260725T100000
DTEND;TZID=America/Chicago:20260725T110000
DTSTAMP:20260422T110940
CREATED:20241224T183227Z
LAST-MODIFIED:20241224T183227Z
UID:10000475-1784973600-1784977200@templebrithsholom.org
SUMMARY:Torah Study
DESCRIPTION:Please login to your account to view this information.
URL:https://templebrithsholom.org/event/torah-study/2026-07-25/
LOCATION:Temble B’rith Sholom\, 1004 South 4th Street\, Springfield\, IL\, 62703\, United States
END:VEVENT
BEGIN:VEVENT
DTSTART;TZID=America/Chicago:20260731T180000
DTEND;TZID=America/Chicago:20260731T190000
DTSTAMP:20260422T110940
CREATED:20241224T175929Z
LAST-MODIFIED:20241224T180011Z
UID:10000294-1785520800-1785524400@templebrithsholom.org
SUMMARY:Shabbat Service
DESCRIPTION:Please login to your account to view this information.
URL:https://templebrithsholom.org/event/shabbat-service-2/2026-07-31/
LOCATION:Temble B’rith Sholom\, 1004 South 4th Street\, Springfield\, IL\, 62703\, United States
END:VEVENT
BEGIN:VEVENT
DTSTART;TZID=America/Chicago:20260801T100000
DTEND;TZID=America/Chicago:20260801T110000
DTSTAMP:20260422T110940
CREATED:20241224T183227Z
LAST-MODIFIED:20241224T183227Z
UID:10000476-1785578400-1785582000@templebrithsholom.org
SUMMARY:Torah Study
DESCRIPTION:Please login to your account to view this information.
URL:https://templebrithsholom.org/event/torah-study/2026-08-01/
LOCATION:Temble B’rith Sholom\, 1004 South 4th Street\, Springfield\, IL\, 62703\, United States
END:VEVENT
BEGIN:VEVENT
DTSTART;TZID=America/Chicago:20260807T173000
DTEND;TZID=America/Chicago:20260807T183000
DTSTAMP:20260422T110940
CREATED:20241224T175828Z
LAST-MODIFIED:20241224T175828Z
UID:10000043-1786123800-1786127400@templebrithsholom.org
SUMMARY:Shabbat Service
DESCRIPTION:Please login to your account to view this information.
URL:https://templebrithsholom.org/event/shabbat-service/2026-08-07/
LOCATION:Temble B’rith Sholom\, 1004 South 4th Street\, Springfield\, IL\, 62703\, United States
END:VEVENT
BEGIN:VEVENT
DTSTART;TZID=America/Chicago:20260808T100000
DTEND;TZID=America/Chicago:20260808T110000
DTSTAMP:20260422T110940
CREATED:20241224T183227Z
LAST-MODIFIED:20241224T183227Z
UID:10000477-1786183200-1786186800@templebrithsholom.org
SUMMARY:Torah Study
DESCRIPTION:Please login to your account to view this information.
URL:https://templebrithsholom.org/event/torah-study/2026-08-08/
LOCATION:Temble B’rith Sholom\, 1004 South 4th Street\, Springfield\, IL\, 62703\, United States
END:VEVENT
BEGIN:VEVENT
DTSTART;TZID=America/Chicago:20260814T173000
DTEND;TZID=America/Chicago:20260814T183000
DTSTAMP:20260422T110940
CREATED:20241224T175828Z
LAST-MODIFIED:20241224T175828Z
UID:10000044-1786728600-1786732200@templebrithsholom.org
SUMMARY:Shabbat Service
DESCRIPTION:Please login to your account to view this information.
URL:https://templebrithsholom.org/event/shabbat-service/2026-08-14/
LOCATION:Temble B’rith Sholom\, 1004 South 4th Street\, Springfield\, IL\, 62703\, United States
END:VEVENT
BEGIN:VEVENT
DTSTART;TZID=America/Chicago:20260815T100000
DTEND;TZID=America/Chicago:20260815T110000
DTSTAMP:20260422T110940
CREATED:20241224T183227Z
LAST-MODIFIED:20241224T183227Z
UID:10000478-1786788000-1786791600@templebrithsholom.org
SUMMARY:Torah Study
DESCRIPTION:Please login to your account to view this information.
URL:https://templebrithsholom.org/event/torah-study/2026-08-15/
LOCATION:Temble B’rith Sholom\, 1004 South 4th Street\, Springfield\, IL\, 62703\, United States
END:VEVENT
BEGIN:VEVENT
DTSTART;TZID=America/Chicago:20260821T180000
DTEND;TZID=America/Chicago:20260821T190000
DTSTAMP:20260422T110940
CREATED:20241224T175929Z
LAST-MODIFIED:20241224T180011Z
UID:10000295-1787335200-1787338800@templebrithsholom.org
SUMMARY:Shabbat Service
DESCRIPTION:Please login to your account to view this information.
URL:https://templebrithsholom.org/event/shabbat-service-2/2026-08-21/
LOCATION:Temble B’rith Sholom\, 1004 South 4th Street\, Springfield\, IL\, 62703\, United States
END:VEVENT
BEGIN:VEVENT
DTSTART;TZID=America/Chicago:20260822T100000
DTEND;TZID=America/Chicago:20260822T110000
DTSTAMP:20260422T110940
CREATED:20241224T183227Z
LAST-MODIFIED:20241224T183227Z
UID:10000479-1787392800-1787396400@templebrithsholom.org
SUMMARY:Torah Study
DESCRIPTION:Please login to your account to view this information.
URL:https://templebrithsholom.org/event/torah-study/2026-08-22/
LOCATION:Temble B’rith Sholom\, 1004 South 4th Street\, Springfield\, IL\, 62703\, United States
END:VEVENT
BEGIN:VEVENT
DTSTART;TZID=America/Chicago:20260828T180000
DTEND;TZID=America/Chicago:20260828T190000
DTSTAMP:20260422T110940
CREATED:20241224T175929Z
LAST-MODIFIED:20241224T180011Z
UID:10000296-1787940000-1787943600@templebrithsholom.org
SUMMARY:Shabbat Service
DESCRIPTION:Please login to your account to view this information.
URL:https://templebrithsholom.org/event/shabbat-service-2/2026-08-28/
LOCATION:Temble B’rith Sholom\, 1004 South 4th Street\, Springfield\, IL\, 62703\, United States
END:VEVENT
BEGIN:VEVENT
DTSTART;TZID=America/Chicago:20260829T100000
DTEND;TZID=America/Chicago:20260829T110000
DTSTAMP:20260422T110940
CREATED:20241224T183227Z
LAST-MODIFIED:20241224T183227Z
UID:10000480-1787997600-1788001200@templebrithsholom.org
SUMMARY:Torah Study
DESCRIPTION:Please login to your account to view this information.
URL:https://templebrithsholom.org/event/torah-study/2026-08-29/
LOCATION:Temble B’rith Sholom\, 1004 South 4th Street\, Springfield\, IL\, 62703\, United States
END:VEVENT
BEGIN:VEVENT
DTSTART;TZID=America/Chicago:20260904T173000
DTEND;TZID=America/Chicago:20260904T183000
DTSTAMP:20260422T110940
CREATED:20241224T175828Z
LAST-MODIFIED:20241224T175828Z
UID:10000045-1788543000-1788546600@templebrithsholom.org
SUMMARY:Shabbat Service
DESCRIPTION:Please login to your account to view this information.
URL:https://templebrithsholom.org/event/shabbat-service/2026-09-04/
LOCATION:Temble B’rith Sholom\, 1004 South 4th Street\, Springfield\, IL\, 62703\, United States
END:VEVENT
BEGIN:VEVENT
DTSTART;TZID=America/Chicago:20260905T100000
DTEND;TZID=America/Chicago:20260905T110000
DTSTAMP:20260422T110941
CREATED:20241224T183227Z
LAST-MODIFIED:20241224T183227Z
UID:10000481-1788602400-1788606000@templebrithsholom.org
SUMMARY:Torah Study
DESCRIPTION:Please login to your account to view this information.
URL:https://templebrithsholom.org/event/torah-study/2026-09-05/
LOCATION:Temble B’rith Sholom\, 1004 South 4th Street\, Springfield\, IL\, 62703\, United States
END:VEVENT
BEGIN:VEVENT
DTSTART;TZID=America/Chicago:20260911T173000
DTEND;TZID=America/Chicago:20260911T183000
DTSTAMP:20260422T110941
CREATED:20241224T175828Z
LAST-MODIFIED:20241224T175828Z
UID:10000046-1789147800-1789151400@templebrithsholom.org
SUMMARY:Shabbat Service
DESCRIPTION:Please login to your account to view this information.
URL:https://templebrithsholom.org/event/shabbat-service/2026-09-11/
LOCATION:Temble B’rith Sholom\, 1004 South 4th Street\, Springfield\, IL\, 62703\, United States
END:VEVENT
BEGIN:VEVENT
DTSTART;TZID=America/Chicago:20260912T100000
DTEND;TZID=America/Chicago:20260912T110000
DTSTAMP:20260422T110941
CREATED:20241224T183227Z
LAST-MODIFIED:20241224T183227Z
UID:10000482-1789207200-1789210800@templebrithsholom.org
SUMMARY:Torah Study
DESCRIPTION:Please login to your account to view this information.
URL:https://templebrithsholom.org/event/torah-study/2026-09-12/
LOCATION:Temble B’rith Sholom\, 1004 South 4th Street\, Springfield\, IL\, 62703\, United States
END:VEVENT
END:VCALENDAR