BEGIN:VCALENDAR
VERSION:2.0
PRODID:-//Temple B&#039;rith Sholom - ECPv6.15.17.1//NONSGML v1.0//EN
CALSCALE:GREGORIAN
METHOD:PUBLISH
X-ORIGINAL-URL:https://templebrithsholom.org
X-WR-CALDESC:Events for Temple B&#039;rith Sholom
REFRESH-INTERVAL;VALUE=DURATION:PT1H
X-Robots-Tag:noindex
X-PUBLISHED-TTL:PT1H
BEGIN:VTIMEZONE
TZID:America/Chicago
BEGIN:DAYLIGHT
TZOFFSETFROM:-0600
TZOFFSETTO:-0500
TZNAME:CDT
DTSTART:20260308T080000
END:DAYLIGHT
BEGIN:STANDARD
TZOFFSETFROM:-0500
TZOFFSETTO:-0600
TZNAME:CST
DTSTART:20261101T070000
END:STANDARD
BEGIN:DAYLIGHT
TZOFFSETFROM:-0600
TZOFFSETTO:-0500
TZNAME:CDT
DTSTART:20270314T080000
END:DAYLIGHT
BEGIN:STANDARD
TZOFFSETFROM:-0500
TZOFFSETTO:-0600
TZNAME:CST
DTSTART:20271107T070000
END:STANDARD
BEGIN:DAYLIGHT
TZOFFSETFROM:-0600
TZOFFSETTO:-0500
TZNAME:CDT
DTSTART:20280312T080000
END:DAYLIGHT
BEGIN:STANDARD
TZOFFSETFROM:-0500
TZOFFSETTO:-0600
TZNAME:CST
DTSTART:20281105T070000
END:STANDARD
BEGIN:DAYLIGHT
TZOFFSETFROM:-0600
TZOFFSETTO:-0500
TZNAME:CDT
DTSTART:20290311T080000
END:DAYLIGHT
BEGIN:STANDARD
TZOFFSETFROM:-0500
TZOFFSETTO:-0600
TZNAME:CST
DTSTART:20291104T070000
END:STANDARD
END:VTIMEZONE
BEGIN:VEVENT
DTSTART;TZID=America/Chicago:20271022T180000
DTEND;TZID=America/Chicago:20271022T190000
DTSTAMP:20260423T074109
CREATED:20241224T175929Z
LAST-MODIFIED:20241224T180011Z
UID:10000328-1824228000-1824231600@templebrithsholom.org
SUMMARY:Shabbat Service
DESCRIPTION:Please login to your account to view this information.
URL:https://templebrithsholom.org/event/shabbat-service-2/2027-10-22/
LOCATION:Temble B’rith Sholom\, 1004 South 4th Street\, Springfield\, IL\, 62703\, United States
END:VEVENT
BEGIN:VEVENT
DTSTART;TZID=America/Chicago:20271023T100000
DTEND;TZID=America/Chicago:20271023T110000
DTSTAMP:20260423T074109
CREATED:20241224T183227Z
LAST-MODIFIED:20241224T183227Z
UID:10000540-1824285600-1824289200@templebrithsholom.org
SUMMARY:Torah Study
DESCRIPTION:Please login to your account to view this information.
URL:https://templebrithsholom.org/event/torah-study/2027-10-23/
LOCATION:Temble B’rith Sholom\, 1004 South 4th Street\, Springfield\, IL\, 62703\, United States
END:VEVENT
BEGIN:VEVENT
DTSTART;TZID=America/Chicago:20271029T180000
DTEND;TZID=America/Chicago:20271029T190000
DTSTAMP:20260423T074109
CREATED:20241224T175929Z
LAST-MODIFIED:20241224T180011Z
UID:10000329-1824832800-1824836400@templebrithsholom.org
SUMMARY:Shabbat Service
DESCRIPTION:Please login to your account to view this information.
URL:https://templebrithsholom.org/event/shabbat-service-2/2027-10-29/
LOCATION:Temble B’rith Sholom\, 1004 South 4th Street\, Springfield\, IL\, 62703\, United States
END:VEVENT
BEGIN:VEVENT
DTSTART;TZID=America/Chicago:20271030T100000
DTEND;TZID=America/Chicago:20271030T110000
DTSTAMP:20260423T074109
CREATED:20241224T183227Z
LAST-MODIFIED:20241224T183227Z
UID:10000541-1824890400-1824894000@templebrithsholom.org
SUMMARY:Torah Study
DESCRIPTION:Please login to your account to view this information.
URL:https://templebrithsholom.org/event/torah-study/2027-10-30/
LOCATION:Temble B’rith Sholom\, 1004 South 4th Street\, Springfield\, IL\, 62703\, United States
END:VEVENT
BEGIN:VEVENT
DTSTART;TZID=America/Chicago:20271105T173000
DTEND;TZID=America/Chicago:20271105T183000
DTSTAMP:20260423T074109
CREATED:20241224T175828Z
LAST-MODIFIED:20241224T175828Z
UID:10000073-1825435800-1825439400@templebrithsholom.org
SUMMARY:Shabbat Service
DESCRIPTION:Please login to your account to view this information.
URL:https://templebrithsholom.org/event/shabbat-service/2027-11-05/
LOCATION:Temble B’rith Sholom\, 1004 South 4th Street\, Springfield\, IL\, 62703\, United States
END:VEVENT
BEGIN:VEVENT
DTSTART;TZID=America/Chicago:20271106T100000
DTEND;TZID=America/Chicago:20271106T110000
DTSTAMP:20260423T074109
CREATED:20241224T183227Z
LAST-MODIFIED:20241224T183227Z
UID:10000542-1825495200-1825498800@templebrithsholom.org
SUMMARY:Torah Study
DESCRIPTION:Please login to your account to view this information.
URL:https://templebrithsholom.org/event/torah-study/2027-11-06/
LOCATION:Temble B’rith Sholom\, 1004 South 4th Street\, Springfield\, IL\, 62703\, United States
END:VEVENT
BEGIN:VEVENT
DTSTART;TZID=America/Chicago:20271112T173000
DTEND;TZID=America/Chicago:20271112T183000
DTSTAMP:20260423T074109
CREATED:20241224T175828Z
LAST-MODIFIED:20241224T175828Z
UID:10000074-1826040600-1826044200@templebrithsholom.org
SUMMARY:Shabbat Service
DESCRIPTION:Please login to your account to view this information.
URL:https://templebrithsholom.org/event/shabbat-service/2027-11-12/
LOCATION:Temble B’rith Sholom\, 1004 South 4th Street\, Springfield\, IL\, 62703\, United States
END:VEVENT
BEGIN:VEVENT
DTSTART;TZID=America/Chicago:20271113T100000
DTEND;TZID=America/Chicago:20271113T110000
DTSTAMP:20260423T074109
CREATED:20241224T183227Z
LAST-MODIFIED:20241224T183227Z
UID:10000543-1826100000-1826103600@templebrithsholom.org
SUMMARY:Torah Study
DESCRIPTION:Please login to your account to view this information.
URL:https://templebrithsholom.org/event/torah-study/2027-11-13/
LOCATION:Temble B’rith Sholom\, 1004 South 4th Street\, Springfield\, IL\, 62703\, United States
END:VEVENT
BEGIN:VEVENT
DTSTART;TZID=America/Chicago:20271119T180000
DTEND;TZID=America/Chicago:20271119T190000
DTSTAMP:20260423T074109
CREATED:20241224T175929Z
LAST-MODIFIED:20241224T180011Z
UID:10000330-1826647200-1826650800@templebrithsholom.org
SUMMARY:Shabbat Service
DESCRIPTION:Please login to your account to view this information.
URL:https://templebrithsholom.org/event/shabbat-service-2/2027-11-19/
LOCATION:Temble B’rith Sholom\, 1004 South 4th Street\, Springfield\, IL\, 62703\, United States
END:VEVENT
BEGIN:VEVENT
DTSTART;TZID=America/Chicago:20271120T100000
DTEND;TZID=America/Chicago:20271120T110000
DTSTAMP:20260423T074109
CREATED:20241224T183227Z
LAST-MODIFIED:20241224T183227Z
UID:10000544-1826704800-1826708400@templebrithsholom.org
SUMMARY:Torah Study
DESCRIPTION:Please login to your account to view this information.
URL:https://templebrithsholom.org/event/torah-study/2027-11-20/
LOCATION:Temble B’rith Sholom\, 1004 South 4th Street\, Springfield\, IL\, 62703\, United States
END:VEVENT
BEGIN:VEVENT
DTSTART;TZID=America/Chicago:20271126T180000
DTEND;TZID=America/Chicago:20271126T190000
DTSTAMP:20260423T074109
CREATED:20241224T175929Z
LAST-MODIFIED:20241224T180011Z
UID:10000331-1827252000-1827255600@templebrithsholom.org
SUMMARY:Shabbat Service
DESCRIPTION:Please login to your account to view this information.
URL:https://templebrithsholom.org/event/shabbat-service-2/2027-11-26/
LOCATION:Temble B’rith Sholom\, 1004 South 4th Street\, Springfield\, IL\, 62703\, United States
END:VEVENT
BEGIN:VEVENT
DTSTART;TZID=America/Chicago:20271127T100000
DTEND;TZID=America/Chicago:20271127T110000
DTSTAMP:20260423T074109
CREATED:20241224T183227Z
LAST-MODIFIED:20241224T183227Z
UID:10000545-1827309600-1827313200@templebrithsholom.org
SUMMARY:Torah Study
DESCRIPTION:Please login to your account to view this information.
URL:https://templebrithsholom.org/event/torah-study/2027-11-27/
LOCATION:Temble B’rith Sholom\, 1004 South 4th Street\, Springfield\, IL\, 62703\, United States
END:VEVENT
BEGIN:VEVENT
DTSTART;TZID=America/Chicago:20271203T173000
DTEND;TZID=America/Chicago:20271203T183000
DTSTAMP:20260423T074109
CREATED:20241224T175828Z
LAST-MODIFIED:20241224T175828Z
UID:10000075-1827855000-1827858600@templebrithsholom.org
SUMMARY:Shabbat Service
DESCRIPTION:Please login to your account to view this information.
URL:https://templebrithsholom.org/event/shabbat-service/2027-12-03/
LOCATION:Temble B’rith Sholom\, 1004 South 4th Street\, Springfield\, IL\, 62703\, United States
END:VEVENT
BEGIN:VEVENT
DTSTART;TZID=America/Chicago:20271204T100000
DTEND;TZID=America/Chicago:20271204T110000
DTSTAMP:20260423T074109
CREATED:20241224T183227Z
LAST-MODIFIED:20241224T183227Z
UID:10000546-1827914400-1827918000@templebrithsholom.org
SUMMARY:Torah Study
DESCRIPTION:Please login to your account to view this information.
URL:https://templebrithsholom.org/event/torah-study/2027-12-04/
LOCATION:Temble B’rith Sholom\, 1004 South 4th Street\, Springfield\, IL\, 62703\, United States
END:VEVENT
BEGIN:VEVENT
DTSTART;TZID=America/Chicago:20271210T173000
DTEND;TZID=America/Chicago:20271210T183000
DTSTAMP:20260423T074109
CREATED:20241224T175828Z
LAST-MODIFIED:20241224T175828Z
UID:10000076-1828459800-1828463400@templebrithsholom.org
SUMMARY:Shabbat Service
DESCRIPTION:Please login to your account to view this information.
URL:https://templebrithsholom.org/event/shabbat-service/2027-12-10/
LOCATION:Temble B’rith Sholom\, 1004 South 4th Street\, Springfield\, IL\, 62703\, United States
END:VEVENT
BEGIN:VEVENT
DTSTART;TZID=America/Chicago:20271211T100000
DTEND;TZID=America/Chicago:20271211T110000
DTSTAMP:20260423T074109
CREATED:20241224T183227Z
LAST-MODIFIED:20241224T183227Z
UID:10000547-1828519200-1828522800@templebrithsholom.org
SUMMARY:Torah Study
DESCRIPTION:Please login to your account to view this information.
URL:https://templebrithsholom.org/event/torah-study/2027-12-11/
LOCATION:Temble B’rith Sholom\, 1004 South 4th Street\, Springfield\, IL\, 62703\, United States
END:VEVENT
BEGIN:VEVENT
DTSTART;TZID=America/Chicago:20271217T180000
DTEND;TZID=America/Chicago:20271217T190000
DTSTAMP:20260423T074109
CREATED:20241224T175929Z
LAST-MODIFIED:20241224T180011Z
UID:10000332-1829066400-1829070000@templebrithsholom.org
SUMMARY:Shabbat Service
DESCRIPTION:Please login to your account to view this information.
URL:https://templebrithsholom.org/event/shabbat-service-2/2027-12-17/
LOCATION:Temble B’rith Sholom\, 1004 South 4th Street\, Springfield\, IL\, 62703\, United States
END:VEVENT
BEGIN:VEVENT
DTSTART;TZID=America/Chicago:20271218T100000
DTEND;TZID=America/Chicago:20271218T110000
DTSTAMP:20260423T074109
CREATED:20241224T183227Z
LAST-MODIFIED:20241224T183227Z
UID:10000548-1829124000-1829127600@templebrithsholom.org
SUMMARY:Torah Study
DESCRIPTION:Please login to your account to view this information.
URL:https://templebrithsholom.org/event/torah-study/2027-12-18/
LOCATION:Temble B’rith Sholom\, 1004 South 4th Street\, Springfield\, IL\, 62703\, United States
END:VEVENT
BEGIN:VEVENT
DTSTART;TZID=America/Chicago:20271224T180000
DTEND;TZID=America/Chicago:20271224T190000
DTSTAMP:20260423T074109
CREATED:20241224T175929Z
LAST-MODIFIED:20241224T180011Z
UID:10000333-1829671200-1829674800@templebrithsholom.org
SUMMARY:Shabbat Service
DESCRIPTION:Please login to your account to view this information.
URL:https://templebrithsholom.org/event/shabbat-service-2/2027-12-24/
LOCATION:Temble B’rith Sholom\, 1004 South 4th Street\, Springfield\, IL\, 62703\, United States
END:VEVENT
BEGIN:VEVENT
DTSTART;TZID=America/Chicago:20271225T100000
DTEND;TZID=America/Chicago:20271225T110000
DTSTAMP:20260423T074109
CREATED:20241224T183227Z
LAST-MODIFIED:20241224T183227Z
UID:10000549-1829728800-1829732400@templebrithsholom.org
SUMMARY:Torah Study
DESCRIPTION:Please login to your account to view this information.
URL:https://templebrithsholom.org/event/torah-study/2027-12-25/
LOCATION:Temble B’rith Sholom\, 1004 South 4th Street\, Springfield\, IL\, 62703\, United States
END:VEVENT
BEGIN:VEVENT
DTSTART;TZID=America/Chicago:20271231T180000
DTEND;TZID=America/Chicago:20271231T190000
DTSTAMP:20260423T074109
CREATED:20241224T175929Z
LAST-MODIFIED:20241224T180011Z
UID:10000334-1830276000-1830279600@templebrithsholom.org
SUMMARY:Shabbat Service
DESCRIPTION:Please login to your account to view this information.
URL:https://templebrithsholom.org/event/shabbat-service-2/2027-12-31/
LOCATION:Temble B’rith Sholom\, 1004 South 4th Street\, Springfield\, IL\, 62703\, United States
END:VEVENT
BEGIN:VEVENT
DTSTART;TZID=America/Chicago:20280101T100000
DTEND;TZID=America/Chicago:20280101T110000
DTSTAMP:20260423T074109
CREATED:20241224T183227Z
LAST-MODIFIED:20241224T183227Z
UID:10000550-1830333600-1830337200@templebrithsholom.org
SUMMARY:Torah Study
DESCRIPTION:Please login to your account to view this information.
URL:https://templebrithsholom.org/event/torah-study/2028-01-01/
LOCATION:Temble B’rith Sholom\, 1004 South 4th Street\, Springfield\, IL\, 62703\, United States
END:VEVENT
BEGIN:VEVENT
DTSTART;TZID=America/Chicago:20280107T173000
DTEND;TZID=America/Chicago:20280107T183000
DTSTAMP:20260423T074109
CREATED:20241224T175828Z
LAST-MODIFIED:20241224T175828Z
UID:10000077-1830879000-1830882600@templebrithsholom.org
SUMMARY:Shabbat Service
DESCRIPTION:Please login to your account to view this information.
URL:https://templebrithsholom.org/event/shabbat-service/2028-01-07/
LOCATION:Temble B’rith Sholom\, 1004 South 4th Street\, Springfield\, IL\, 62703\, United States
END:VEVENT
BEGIN:VEVENT
DTSTART;TZID=America/Chicago:20280108T100000
DTEND;TZID=America/Chicago:20280108T110000
DTSTAMP:20260423T074109
CREATED:20241224T183227Z
LAST-MODIFIED:20241224T183227Z
UID:10000551-1830938400-1830942000@templebrithsholom.org
SUMMARY:Torah Study
DESCRIPTION:Please login to your account to view this information.
URL:https://templebrithsholom.org/event/torah-study/2028-01-08/
LOCATION:Temble B’rith Sholom\, 1004 South 4th Street\, Springfield\, IL\, 62703\, United States
END:VEVENT
BEGIN:VEVENT
DTSTART;TZID=America/Chicago:20280114T173000
DTEND;TZID=America/Chicago:20280114T183000
DTSTAMP:20260423T074109
CREATED:20241224T175828Z
LAST-MODIFIED:20241224T175828Z
UID:10000078-1831483800-1831487400@templebrithsholom.org
SUMMARY:Shabbat Service
DESCRIPTION:Please login to your account to view this information.
URL:https://templebrithsholom.org/event/shabbat-service/2028-01-14/
LOCATION:Temble B’rith Sholom\, 1004 South 4th Street\, Springfield\, IL\, 62703\, United States
END:VEVENT
BEGIN:VEVENT
DTSTART;TZID=America/Chicago:20280115T100000
DTEND;TZID=America/Chicago:20280115T110000
DTSTAMP:20260423T074109
CREATED:20241224T183227Z
LAST-MODIFIED:20241224T183227Z
UID:10000552-1831543200-1831546800@templebrithsholom.org
SUMMARY:Torah Study
DESCRIPTION:Please login to your account to view this information.
URL:https://templebrithsholom.org/event/torah-study/2028-01-15/
LOCATION:Temble B’rith Sholom\, 1004 South 4th Street\, Springfield\, IL\, 62703\, United States
END:VEVENT
BEGIN:VEVENT
DTSTART;TZID=America/Chicago:20280121T180000
DTEND;TZID=America/Chicago:20280121T190000
DTSTAMP:20260423T074109
CREATED:20241224T175929Z
LAST-MODIFIED:20241224T180011Z
UID:10000335-1832090400-1832094000@templebrithsholom.org
SUMMARY:Shabbat Service
DESCRIPTION:Please login to your account to view this information.
URL:https://templebrithsholom.org/event/shabbat-service-2/2028-01-21/
LOCATION:Temble B’rith Sholom\, 1004 South 4th Street\, Springfield\, IL\, 62703\, United States
END:VEVENT
BEGIN:VEVENT
DTSTART;TZID=America/Chicago:20280122T100000
DTEND;TZID=America/Chicago:20280122T110000
DTSTAMP:20260423T074109
CREATED:20241224T183227Z
LAST-MODIFIED:20241224T183227Z
UID:10000553-1832148000-1832151600@templebrithsholom.org
SUMMARY:Torah Study
DESCRIPTION:Please login to your account to view this information.
URL:https://templebrithsholom.org/event/torah-study/2028-01-22/
LOCATION:Temble B’rith Sholom\, 1004 South 4th Street\, Springfield\, IL\, 62703\, United States
END:VEVENT
BEGIN:VEVENT
DTSTART;TZID=America/Chicago:20280128T180000
DTEND;TZID=America/Chicago:20280128T190000
DTSTAMP:20260423T074109
CREATED:20241224T175929Z
LAST-MODIFIED:20241224T180011Z
UID:10000336-1832695200-1832698800@templebrithsholom.org
SUMMARY:Shabbat Service
DESCRIPTION:Please login to your account to view this information.
URL:https://templebrithsholom.org/event/shabbat-service-2/2028-01-28/
LOCATION:Temble B’rith Sholom\, 1004 South 4th Street\, Springfield\, IL\, 62703\, United States
END:VEVENT
BEGIN:VEVENT
DTSTART;TZID=America/Chicago:20280129T100000
DTEND;TZID=America/Chicago:20280129T110000
DTSTAMP:20260423T074109
CREATED:20241224T183227Z
LAST-MODIFIED:20241224T183227Z
UID:10000554-1832752800-1832756400@templebrithsholom.org
SUMMARY:Torah Study
DESCRIPTION:Please login to your account to view this information.
URL:https://templebrithsholom.org/event/torah-study/2028-01-29/
LOCATION:Temble B’rith Sholom\, 1004 South 4th Street\, Springfield\, IL\, 62703\, United States
END:VEVENT
END:VCALENDAR