BEGIN:VCALENDAR
VERSION:2.0
PRODID:-//Temple B&#039;rith Sholom - ECPv6.15.17.1//NONSGML v1.0//EN
CALSCALE:GREGORIAN
METHOD:PUBLISH
X-ORIGINAL-URL:https://templebrithsholom.org
X-WR-CALDESC:Events for Temple B&#039;rith Sholom
REFRESH-INTERVAL;VALUE=DURATION:PT1H
X-Robots-Tag:noindex
X-PUBLISHED-TTL:PT1H
BEGIN:VTIMEZONE
TZID:America/Chicago
BEGIN:DAYLIGHT
TZOFFSETFROM:-0600
TZOFFSETTO:-0500
TZNAME:CDT
DTSTART:20260308T080000
END:DAYLIGHT
BEGIN:STANDARD
TZOFFSETFROM:-0500
TZOFFSETTO:-0600
TZNAME:CST
DTSTART:20261101T070000
END:STANDARD
BEGIN:DAYLIGHT
TZOFFSETFROM:-0600
TZOFFSETTO:-0500
TZNAME:CDT
DTSTART:20270314T080000
END:DAYLIGHT
BEGIN:STANDARD
TZOFFSETFROM:-0500
TZOFFSETTO:-0600
TZNAME:CST
DTSTART:20271107T070000
END:STANDARD
BEGIN:DAYLIGHT
TZOFFSETFROM:-0600
TZOFFSETTO:-0500
TZNAME:CDT
DTSTART:20280312T080000
END:DAYLIGHT
BEGIN:STANDARD
TZOFFSETFROM:-0500
TZOFFSETTO:-0600
TZNAME:CST
DTSTART:20281105T070000
END:STANDARD
END:VTIMEZONE
BEGIN:VEVENT
DTSTART;TZID=America/Chicago:20270618T180000
DTEND;TZID=America/Chicago:20270618T190000
DTSTAMP:20260423T023844
CREATED:20241224T175929Z
LAST-MODIFIED:20241224T180011Z
UID:10000318-1813341600-1813345200@templebrithsholom.org
SUMMARY:Shabbat Service
DESCRIPTION:Please login to your account to view this information.
URL:https://templebrithsholom.org/event/shabbat-service-2/2027-06-18/
LOCATION:Temble B’rith Sholom\, 1004 South 4th Street\, Springfield\, IL\, 62703\, United States
END:VEVENT
BEGIN:VEVENT
DTSTART;TZID=America/Chicago:20270619T100000
DTEND;TZID=America/Chicago:20270619T110000
DTSTAMP:20260423T023844
CREATED:20241224T183227Z
LAST-MODIFIED:20241224T183227Z
UID:10000522-1813399200-1813402800@templebrithsholom.org
SUMMARY:Torah Study
DESCRIPTION:Please login to your account to view this information.
URL:https://templebrithsholom.org/event/torah-study/2027-06-19/
LOCATION:Temble B’rith Sholom\, 1004 South 4th Street\, Springfield\, IL\, 62703\, United States
END:VEVENT
BEGIN:VEVENT
DTSTART;TZID=America/Chicago:20270625T180000
DTEND;TZID=America/Chicago:20270625T190000
DTSTAMP:20260423T023844
CREATED:20241224T175929Z
LAST-MODIFIED:20241224T180011Z
UID:10000319-1813946400-1813950000@templebrithsholom.org
SUMMARY:Shabbat Service
DESCRIPTION:Please login to your account to view this information.
URL:https://templebrithsholom.org/event/shabbat-service-2/2027-06-25/
LOCATION:Temble B’rith Sholom\, 1004 South 4th Street\, Springfield\, IL\, 62703\, United States
END:VEVENT
BEGIN:VEVENT
DTSTART;TZID=America/Chicago:20270626T100000
DTEND;TZID=America/Chicago:20270626T110000
DTSTAMP:20260423T023844
CREATED:20241224T183227Z
LAST-MODIFIED:20241224T183227Z
UID:10000523-1814004000-1814007600@templebrithsholom.org
SUMMARY:Torah Study
DESCRIPTION:Please login to your account to view this information.
URL:https://templebrithsholom.org/event/torah-study/2027-06-26/
LOCATION:Temble B’rith Sholom\, 1004 South 4th Street\, Springfield\, IL\, 62703\, United States
END:VEVENT
BEGIN:VEVENT
DTSTART;TZID=America/Chicago:20270702T173000
DTEND;TZID=America/Chicago:20270702T183000
DTSTAMP:20260423T023844
CREATED:20241224T175828Z
LAST-MODIFIED:20241224T175828Z
UID:10000065-1814549400-1814553000@templebrithsholom.org
SUMMARY:Shabbat Service
DESCRIPTION:Please login to your account to view this information.
URL:https://templebrithsholom.org/event/shabbat-service/2027-07-02/
LOCATION:Temble B’rith Sholom\, 1004 South 4th Street\, Springfield\, IL\, 62703\, United States
END:VEVENT
BEGIN:VEVENT
DTSTART;TZID=America/Chicago:20270703T100000
DTEND;TZID=America/Chicago:20270703T110000
DTSTAMP:20260423T023844
CREATED:20241224T183227Z
LAST-MODIFIED:20241224T183227Z
UID:10000524-1814608800-1814612400@templebrithsholom.org
SUMMARY:Torah Study
DESCRIPTION:Please login to your account to view this information.
URL:https://templebrithsholom.org/event/torah-study/2027-07-03/
LOCATION:Temble B’rith Sholom\, 1004 South 4th Street\, Springfield\, IL\, 62703\, United States
END:VEVENT
BEGIN:VEVENT
DTSTART;TZID=America/Chicago:20270709T173000
DTEND;TZID=America/Chicago:20270709T183000
DTSTAMP:20260423T023844
CREATED:20241224T175828Z
LAST-MODIFIED:20241224T175828Z
UID:10000066-1815154200-1815157800@templebrithsholom.org
SUMMARY:Shabbat Service
DESCRIPTION:Please login to your account to view this information.
URL:https://templebrithsholom.org/event/shabbat-service/2027-07-09/
LOCATION:Temble B’rith Sholom\, 1004 South 4th Street\, Springfield\, IL\, 62703\, United States
END:VEVENT
BEGIN:VEVENT
DTSTART;TZID=America/Chicago:20270710T100000
DTEND;TZID=America/Chicago:20270710T110000
DTSTAMP:20260423T023844
CREATED:20241224T183227Z
LAST-MODIFIED:20241224T183227Z
UID:10000525-1815213600-1815217200@templebrithsholom.org
SUMMARY:Torah Study
DESCRIPTION:Please login to your account to view this information.
URL:https://templebrithsholom.org/event/torah-study/2027-07-10/
LOCATION:Temble B’rith Sholom\, 1004 South 4th Street\, Springfield\, IL\, 62703\, United States
END:VEVENT
BEGIN:VEVENT
DTSTART;TZID=America/Chicago:20270716T180000
DTEND;TZID=America/Chicago:20270716T190000
DTSTAMP:20260423T023844
CREATED:20241224T175929Z
LAST-MODIFIED:20241224T180011Z
UID:10000320-1815760800-1815764400@templebrithsholom.org
SUMMARY:Shabbat Service
DESCRIPTION:Please login to your account to view this information.
URL:https://templebrithsholom.org/event/shabbat-service-2/2027-07-16/
LOCATION:Temble B’rith Sholom\, 1004 South 4th Street\, Springfield\, IL\, 62703\, United States
END:VEVENT
BEGIN:VEVENT
DTSTART;TZID=America/Chicago:20270717T100000
DTEND;TZID=America/Chicago:20270717T110000
DTSTAMP:20260423T023844
CREATED:20241224T183227Z
LAST-MODIFIED:20241224T183227Z
UID:10000526-1815818400-1815822000@templebrithsholom.org
SUMMARY:Torah Study
DESCRIPTION:Please login to your account to view this information.
URL:https://templebrithsholom.org/event/torah-study/2027-07-17/
LOCATION:Temble B’rith Sholom\, 1004 South 4th Street\, Springfield\, IL\, 62703\, United States
END:VEVENT
BEGIN:VEVENT
DTSTART;TZID=America/Chicago:20270723T180000
DTEND;TZID=America/Chicago:20270723T190000
DTSTAMP:20260423T023844
CREATED:20241224T175929Z
LAST-MODIFIED:20241224T180011Z
UID:10000321-1816365600-1816369200@templebrithsholom.org
SUMMARY:Shabbat Service
DESCRIPTION:Please login to your account to view this information.
URL:https://templebrithsholom.org/event/shabbat-service-2/2027-07-23/
LOCATION:Temble B’rith Sholom\, 1004 South 4th Street\, Springfield\, IL\, 62703\, United States
END:VEVENT
BEGIN:VEVENT
DTSTART;TZID=America/Chicago:20270724T100000
DTEND;TZID=America/Chicago:20270724T110000
DTSTAMP:20260423T023844
CREATED:20241224T183227Z
LAST-MODIFIED:20241224T183227Z
UID:10000527-1816423200-1816426800@templebrithsholom.org
SUMMARY:Torah Study
DESCRIPTION:Please login to your account to view this information.
URL:https://templebrithsholom.org/event/torah-study/2027-07-24/
LOCATION:Temble B’rith Sholom\, 1004 South 4th Street\, Springfield\, IL\, 62703\, United States
END:VEVENT
BEGIN:VEVENT
DTSTART;TZID=America/Chicago:20270730T180000
DTEND;TZID=America/Chicago:20270730T190000
DTSTAMP:20260423T023844
CREATED:20241224T175929Z
LAST-MODIFIED:20241224T180011Z
UID:10000322-1816970400-1816974000@templebrithsholom.org
SUMMARY:Shabbat Service
DESCRIPTION:Please login to your account to view this information.
URL:https://templebrithsholom.org/event/shabbat-service-2/2027-07-30/
LOCATION:Temble B’rith Sholom\, 1004 South 4th Street\, Springfield\, IL\, 62703\, United States
END:VEVENT
BEGIN:VEVENT
DTSTART;TZID=America/Chicago:20270731T100000
DTEND;TZID=America/Chicago:20270731T110000
DTSTAMP:20260423T023844
CREATED:20241224T183227Z
LAST-MODIFIED:20241224T183227Z
UID:10000528-1817028000-1817031600@templebrithsholom.org
SUMMARY:Torah Study
DESCRIPTION:Please login to your account to view this information.
URL:https://templebrithsholom.org/event/torah-study/2027-07-31/
LOCATION:Temble B’rith Sholom\, 1004 South 4th Street\, Springfield\, IL\, 62703\, United States
END:VEVENT
BEGIN:VEVENT
DTSTART;TZID=America/Chicago:20270806T173000
DTEND;TZID=America/Chicago:20270806T183000
DTSTAMP:20260423T023844
CREATED:20241224T175828Z
LAST-MODIFIED:20241224T175828Z
UID:10000067-1817573400-1817577000@templebrithsholom.org
SUMMARY:Shabbat Service
DESCRIPTION:Please login to your account to view this information.
URL:https://templebrithsholom.org/event/shabbat-service/2027-08-06/
LOCATION:Temble B’rith Sholom\, 1004 South 4th Street\, Springfield\, IL\, 62703\, United States
END:VEVENT
BEGIN:VEVENT
DTSTART;TZID=America/Chicago:20270807T100000
DTEND;TZID=America/Chicago:20270807T110000
DTSTAMP:20260423T023844
CREATED:20241224T183227Z
LAST-MODIFIED:20241224T183227Z
UID:10000529-1817632800-1817636400@templebrithsholom.org
SUMMARY:Torah Study
DESCRIPTION:Please login to your account to view this information.
URL:https://templebrithsholom.org/event/torah-study/2027-08-07/
LOCATION:Temble B’rith Sholom\, 1004 South 4th Street\, Springfield\, IL\, 62703\, United States
END:VEVENT
BEGIN:VEVENT
DTSTART;TZID=America/Chicago:20270813T173000
DTEND;TZID=America/Chicago:20270813T183000
DTSTAMP:20260423T023844
CREATED:20241224T175828Z
LAST-MODIFIED:20241224T175828Z
UID:10000068-1818178200-1818181800@templebrithsholom.org
SUMMARY:Shabbat Service
DESCRIPTION:Please login to your account to view this information.
URL:https://templebrithsholom.org/event/shabbat-service/2027-08-13/
LOCATION:Temble B’rith Sholom\, 1004 South 4th Street\, Springfield\, IL\, 62703\, United States
END:VEVENT
BEGIN:VEVENT
DTSTART;TZID=America/Chicago:20270814T100000
DTEND;TZID=America/Chicago:20270814T110000
DTSTAMP:20260423T023844
CREATED:20241224T183227Z
LAST-MODIFIED:20241224T183227Z
UID:10000530-1818237600-1818241200@templebrithsholom.org
SUMMARY:Torah Study
DESCRIPTION:Please login to your account to view this information.
URL:https://templebrithsholom.org/event/torah-study/2027-08-14/
LOCATION:Temble B’rith Sholom\, 1004 South 4th Street\, Springfield\, IL\, 62703\, United States
END:VEVENT
BEGIN:VEVENT
DTSTART;TZID=America/Chicago:20270820T180000
DTEND;TZID=America/Chicago:20270820T190000
DTSTAMP:20260423T023844
CREATED:20241224T175929Z
LAST-MODIFIED:20241224T180011Z
UID:10000323-1818784800-1818788400@templebrithsholom.org
SUMMARY:Shabbat Service
DESCRIPTION:Please login to your account to view this information.
URL:https://templebrithsholom.org/event/shabbat-service-2/2027-08-20/
LOCATION:Temble B’rith Sholom\, 1004 South 4th Street\, Springfield\, IL\, 62703\, United States
END:VEVENT
BEGIN:VEVENT
DTSTART;TZID=America/Chicago:20270821T100000
DTEND;TZID=America/Chicago:20270821T110000
DTSTAMP:20260423T023844
CREATED:20241224T183227Z
LAST-MODIFIED:20241224T183227Z
UID:10000531-1818842400-1818846000@templebrithsholom.org
SUMMARY:Torah Study
DESCRIPTION:Please login to your account to view this information.
URL:https://templebrithsholom.org/event/torah-study/2027-08-21/
LOCATION:Temble B’rith Sholom\, 1004 South 4th Street\, Springfield\, IL\, 62703\, United States
END:VEVENT
BEGIN:VEVENT
DTSTART;TZID=America/Chicago:20270827T180000
DTEND;TZID=America/Chicago:20270827T190000
DTSTAMP:20260423T023844
CREATED:20241224T175929Z
LAST-MODIFIED:20241224T180011Z
UID:10000324-1819389600-1819393200@templebrithsholom.org
SUMMARY:Shabbat Service
DESCRIPTION:Please login to your account to view this information.
URL:https://templebrithsholom.org/event/shabbat-service-2/2027-08-27/
LOCATION:Temble B’rith Sholom\, 1004 South 4th Street\, Springfield\, IL\, 62703\, United States
END:VEVENT
BEGIN:VEVENT
DTSTART;TZID=America/Chicago:20270828T100000
DTEND;TZID=America/Chicago:20270828T110000
DTSTAMP:20260423T023844
CREATED:20241224T183227Z
LAST-MODIFIED:20241224T183227Z
UID:10000532-1819447200-1819450800@templebrithsholom.org
SUMMARY:Torah Study
DESCRIPTION:Please login to your account to view this information.
URL:https://templebrithsholom.org/event/torah-study/2027-08-28/
LOCATION:Temble B’rith Sholom\, 1004 South 4th Street\, Springfield\, IL\, 62703\, United States
END:VEVENT
BEGIN:VEVENT
DTSTART;TZID=America/Chicago:20270903T173000
DTEND;TZID=America/Chicago:20270903T183000
DTSTAMP:20260423T023844
CREATED:20241224T175828Z
LAST-MODIFIED:20241224T175828Z
UID:10000069-1819992600-1819996200@templebrithsholom.org
SUMMARY:Shabbat Service
DESCRIPTION:Please login to your account to view this information.
URL:https://templebrithsholom.org/event/shabbat-service/2027-09-03/
LOCATION:Temble B’rith Sholom\, 1004 South 4th Street\, Springfield\, IL\, 62703\, United States
END:VEVENT
BEGIN:VEVENT
DTSTART;TZID=America/Chicago:20270904T100000
DTEND;TZID=America/Chicago:20270904T110000
DTSTAMP:20260423T023844
CREATED:20241224T183227Z
LAST-MODIFIED:20241224T183227Z
UID:10000533-1820052000-1820055600@templebrithsholom.org
SUMMARY:Torah Study
DESCRIPTION:Please login to your account to view this information.
URL:https://templebrithsholom.org/event/torah-study/2027-09-04/
LOCATION:Temble B’rith Sholom\, 1004 South 4th Street\, Springfield\, IL\, 62703\, United States
END:VEVENT
BEGIN:VEVENT
DTSTART;TZID=America/Chicago:20270910T173000
DTEND;TZID=America/Chicago:20270910T183000
DTSTAMP:20260423T023844
CREATED:20241224T175828Z
LAST-MODIFIED:20241224T175828Z
UID:10000070-1820597400-1820601000@templebrithsholom.org
SUMMARY:Shabbat Service
DESCRIPTION:Please login to your account to view this information.
URL:https://templebrithsholom.org/event/shabbat-service/2027-09-10/
LOCATION:Temble B’rith Sholom\, 1004 South 4th Street\, Springfield\, IL\, 62703\, United States
END:VEVENT
BEGIN:VEVENT
DTSTART;TZID=America/Chicago:20270911T100000
DTEND;TZID=America/Chicago:20270911T110000
DTSTAMP:20260423T023844
CREATED:20241224T183227Z
LAST-MODIFIED:20241224T183227Z
UID:10000534-1820656800-1820660400@templebrithsholom.org
SUMMARY:Torah Study
DESCRIPTION:Please login to your account to view this information.
URL:https://templebrithsholom.org/event/torah-study/2027-09-11/
LOCATION:Temble B’rith Sholom\, 1004 South 4th Street\, Springfield\, IL\, 62703\, United States
END:VEVENT
BEGIN:VEVENT
DTSTART;TZID=America/Chicago:20270917T180000
DTEND;TZID=America/Chicago:20270917T190000
DTSTAMP:20260423T023844
CREATED:20241224T175929Z
LAST-MODIFIED:20241224T180011Z
UID:10000325-1821204000-1821207600@templebrithsholom.org
SUMMARY:Shabbat Service
DESCRIPTION:Please login to your account to view this information.
URL:https://templebrithsholom.org/event/shabbat-service-2/2027-09-17/
LOCATION:Temble B’rith Sholom\, 1004 South 4th Street\, Springfield\, IL\, 62703\, United States
END:VEVENT
BEGIN:VEVENT
DTSTART;TZID=America/Chicago:20270918T100000
DTEND;TZID=America/Chicago:20270918T110000
DTSTAMP:20260423T023844
CREATED:20241224T183227Z
LAST-MODIFIED:20241224T183227Z
UID:10000535-1821261600-1821265200@templebrithsholom.org
SUMMARY:Torah Study
DESCRIPTION:Please login to your account to view this information.
URL:https://templebrithsholom.org/event/torah-study/2027-09-18/
LOCATION:Temble B’rith Sholom\, 1004 South 4th Street\, Springfield\, IL\, 62703\, United States
END:VEVENT
BEGIN:VEVENT
DTSTART;TZID=America/Chicago:20270924T180000
DTEND;TZID=America/Chicago:20270924T190000
DTSTAMP:20260423T023844
CREATED:20241224T175929Z
LAST-MODIFIED:20241224T180011Z
UID:10000326-1821808800-1821812400@templebrithsholom.org
SUMMARY:Shabbat Service
DESCRIPTION:Please login to your account to view this information.
URL:https://templebrithsholom.org/event/shabbat-service-2/2027-09-24/
LOCATION:Temble B’rith Sholom\, 1004 South 4th Street\, Springfield\, IL\, 62703\, United States
END:VEVENT
BEGIN:VEVENT
DTSTART;TZID=America/Chicago:20270925T100000
DTEND;TZID=America/Chicago:20270925T110000
DTSTAMP:20260423T023844
CREATED:20241224T183227Z
LAST-MODIFIED:20241224T183227Z
UID:10000536-1821866400-1821870000@templebrithsholom.org
SUMMARY:Torah Study
DESCRIPTION:Please login to your account to view this information.
URL:https://templebrithsholom.org/event/torah-study/2027-09-25/
LOCATION:Temble B’rith Sholom\, 1004 South 4th Street\, Springfield\, IL\, 62703\, United States
END:VEVENT
END:VCALENDAR