BEGIN:VCALENDAR
VERSION:2.0
PRODID:-//Temple B&#039;rith Sholom - ECPv6.15.17.1//NONSGML v1.0//EN
CALSCALE:GREGORIAN
METHOD:PUBLISH
X-WR-CALNAME:Temple B&#039;rith Sholom
X-ORIGINAL-URL:https://templebrithsholom.org
X-WR-CALDESC:Events for Temple B&#039;rith Sholom
REFRESH-INTERVAL;VALUE=DURATION:PT1H
X-Robots-Tag:noindex
X-PUBLISHED-TTL:PT1H
BEGIN:VTIMEZONE
TZID:America/Chicago
BEGIN:DAYLIGHT
TZOFFSETFROM:-0600
TZOFFSETTO:-0500
TZNAME:CDT
DTSTART:20250309T080000
END:DAYLIGHT
BEGIN:STANDARD
TZOFFSETFROM:-0500
TZOFFSETTO:-0600
TZNAME:CST
DTSTART:20251102T070000
END:STANDARD
BEGIN:DAYLIGHT
TZOFFSETFROM:-0600
TZOFFSETTO:-0500
TZNAME:CDT
DTSTART:20260308T080000
END:DAYLIGHT
BEGIN:STANDARD
TZOFFSETFROM:-0500
TZOFFSETTO:-0600
TZNAME:CST
DTSTART:20261101T070000
END:STANDARD
BEGIN:DAYLIGHT
TZOFFSETFROM:-0600
TZOFFSETTO:-0500
TZNAME:CDT
DTSTART:20270314T080000
END:DAYLIGHT
BEGIN:STANDARD
TZOFFSETFROM:-0500
TZOFFSETTO:-0600
TZNAME:CST
DTSTART:20271107T070000
END:STANDARD
END:VTIMEZONE
BEGIN:VEVENT
DTSTART;TZID=America/Chicago:20260418T100000
DTEND;TZID=America/Chicago:20260418T110000
DTSTAMP:20260422T125046
CREATED:20241224T183227Z
LAST-MODIFIED:20241224T183227Z
UID:10000461-1776506400-1776510000@templebrithsholom.org
SUMMARY:Torah Study
DESCRIPTION:Join us for \nTorah Study\nat Temple B’rith Sholom \n\nContact us for more information.
URL:https://templebrithsholom.org/event/torah-study/2026-04-18/
LOCATION:Temble B’rith Sholom\, 1004 South 4th Street\, Springfield\, IL\, 62703\, United States
END:VEVENT
BEGIN:VEVENT
DTSTART;TZID=America/Chicago:20260417T180000
DTEND;TZID=America/Chicago:20260417T190000
DTSTAMP:20260422T125046
CREATED:20241224T175929Z
LAST-MODIFIED:20241224T180011Z
UID:10000285-1776448800-1776452400@templebrithsholom.org
SUMMARY:Shabbat Service
DESCRIPTION:Join Us For \nShabbat Service\nat Temple B’rith Sholom \nAll services include special candle lighting and blessings\, and the end is a Oneg hosted by several congregants.\nThe Rabbi leads us in the liturgy readings using the new Reform prayer book\, Mishkan Tefillah.\nChildren’s and Family services are held on the first Friday of each month. The Rabbi combines special Torah themes and stories geared for family and child participation. \nOn the first and second Friday evenings of the month\, services are at 5:30 PM.\nOn the third\, fourth\, and the occasional fifth\, Friday’s services start at 6:00 PM.
URL:https://templebrithsholom.org/event/shabbat-service-2/2026-04-17/
LOCATION:Temble B’rith Sholom\, 1004 South 4th Street\, Springfield\, IL\, 62703\, United States
END:VEVENT
BEGIN:VEVENT
DTSTART;TZID=America/Chicago:20260411T100000
DTEND;TZID=America/Chicago:20260411T110000
DTSTAMP:20260422T125046
CREATED:20241224T183227Z
LAST-MODIFIED:20241224T183227Z
UID:10000460-1775901600-1775905200@templebrithsholom.org
SUMMARY:Torah Study
DESCRIPTION:Join us for \nTorah Study\nat Temple B’rith Sholom \n\nContact us for more information.
URL:https://templebrithsholom.org/event/torah-study/2026-04-11/
LOCATION:Temble B’rith Sholom\, 1004 South 4th Street\, Springfield\, IL\, 62703\, United States
END:VEVENT
BEGIN:VEVENT
DTSTART;TZID=America/Chicago:20260410T173000
DTEND;TZID=America/Chicago:20260410T183000
DTSTAMP:20260422T125046
CREATED:20241224T175828Z
LAST-MODIFIED:20241224T175828Z
UID:10000036-1775842200-1775845800@templebrithsholom.org
SUMMARY:Shabbat Service
DESCRIPTION:Join Us For \nShabbat Service\nat Temple B’rith Sholom \n\nAll services include special candle lighting and blessings\, and the end is a Oneg hosted by several congregants.\nThe Rabbi leads us in the liturgy readings using the new Reform prayer book\, Mishkan Tefillah.\nChildren’s and Family services are held on the first Friday of each month. The Rabbi combines special Torah themes and stories geared for family and child participation. \n\nOn the first and second Friday evenings of the month\, services are at 5:30 PM.\nOn the third\, fourth\, and the occasional fifth\, Friday’s services start at 6:00 PM.
URL:https://templebrithsholom.org/event/shabbat-service/2026-04-10/
LOCATION:Temble B’rith Sholom\, 1004 South 4th Street\, Springfield\, IL\, 62703\, United States
END:VEVENT
BEGIN:VEVENT
DTSTART;TZID=America/Chicago:20260404T100000
DTEND;TZID=America/Chicago:20260404T110000
DTSTAMP:20260422T125046
CREATED:20241224T183227Z
LAST-MODIFIED:20241224T183227Z
UID:10000459-1775296800-1775300400@templebrithsholom.org
SUMMARY:Torah Study
DESCRIPTION:Join us for \nTorah Study\nat Temple B’rith Sholom \n\nContact us for more information.
URL:https://templebrithsholom.org/event/torah-study/2026-04-04/
LOCATION:Temble B’rith Sholom\, 1004 South 4th Street\, Springfield\, IL\, 62703\, United States
END:VEVENT
BEGIN:VEVENT
DTSTART;TZID=America/Chicago:20260403T173000
DTEND;TZID=America/Chicago:20260403T183000
DTSTAMP:20260422T125046
CREATED:20241224T175828Z
LAST-MODIFIED:20241224T175828Z
UID:10000035-1775237400-1775241000@templebrithsholom.org
SUMMARY:Shabbat Service
DESCRIPTION:Join Us For \nShabbat Service\nat Temple B’rith Sholom \n\nAll services include special candle lighting and blessings\, and the end is a Oneg hosted by several congregants.\nThe Rabbi leads us in the liturgy readings using the new Reform prayer book\, Mishkan Tefillah.\nChildren’s and Family services are held on the first Friday of each month. The Rabbi combines special Torah themes and stories geared for family and child participation. \n\nOn the first and second Friday evenings of the month\, services are at 5:30 PM.\nOn the third\, fourth\, and the occasional fifth\, Friday’s services start at 6:00 PM.
URL:https://templebrithsholom.org/event/shabbat-service/2026-04-03/
LOCATION:Temble B’rith Sholom\, 1004 South 4th Street\, Springfield\, IL\, 62703\, United States
END:VEVENT
BEGIN:VEVENT
DTSTART;TZID=America/Chicago:20260328T100000
DTEND;TZID=America/Chicago:20260328T110000
DTSTAMP:20260422T125046
CREATED:20241224T183227Z
LAST-MODIFIED:20241224T183227Z
UID:10000458-1774692000-1774695600@templebrithsholom.org
SUMMARY:Torah Study
DESCRIPTION:Join us for \nTorah Study\nat Temple B’rith Sholom \n\nContact us for more information.
URL:https://templebrithsholom.org/event/torah-study/2026-03-28/
LOCATION:Temble B’rith Sholom\, 1004 South 4th Street\, Springfield\, IL\, 62703\, United States
END:VEVENT
BEGIN:VEVENT
DTSTART;TZID=America/Chicago:20260327T180000
DTEND;TZID=America/Chicago:20260327T190000
DTSTAMP:20260422T125046
CREATED:20241224T175929Z
LAST-MODIFIED:20241224T180011Z
UID:10000284-1774634400-1774638000@templebrithsholom.org
SUMMARY:Shabbat Service
DESCRIPTION:Join Us For \nShabbat Service\nat Temple B’rith Sholom \nAll services include special candle lighting and blessings\, and the end is a Oneg hosted by several congregants.\nThe Rabbi leads us in the liturgy readings using the new Reform prayer book\, Mishkan Tefillah.\nChildren’s and Family services are held on the first Friday of each month. The Rabbi combines special Torah themes and stories geared for family and child participation. \nOn the first and second Friday evenings of the month\, services are at 5:30 PM.\nOn the third\, fourth\, and the occasional fifth\, Friday’s services start at 6:00 PM.
URL:https://templebrithsholom.org/event/shabbat-service-2/2026-03-27/
LOCATION:Temble B’rith Sholom\, 1004 South 4th Street\, Springfield\, IL\, 62703\, United States
END:VEVENT
BEGIN:VEVENT
DTSTART;TZID=America/Chicago:20260321T100000
DTEND;TZID=America/Chicago:20260321T110000
DTSTAMP:20260422T125046
CREATED:20241224T183227Z
LAST-MODIFIED:20241224T183227Z
UID:10000457-1774087200-1774090800@templebrithsholom.org
SUMMARY:Torah Study
DESCRIPTION:Join us for \nTorah Study\nat Temple B’rith Sholom \n\nContact us for more information.
URL:https://templebrithsholom.org/event/torah-study/2026-03-21/
LOCATION:Temble B’rith Sholom\, 1004 South 4th Street\, Springfield\, IL\, 62703\, United States
END:VEVENT
BEGIN:VEVENT
DTSTART;TZID=America/Chicago:20260320T180000
DTEND;TZID=America/Chicago:20260320T190000
DTSTAMP:20260422T125046
CREATED:20241224T175929Z
LAST-MODIFIED:20241224T180011Z
UID:10000283-1774029600-1774033200@templebrithsholom.org
SUMMARY:Shabbat Service
DESCRIPTION:Join Us For \nShabbat Service\nat Temple B’rith Sholom \nAll services include special candle lighting and blessings\, and the end is a Oneg hosted by several congregants.\nThe Rabbi leads us in the liturgy readings using the new Reform prayer book\, Mishkan Tefillah.\nChildren’s and Family services are held on the first Friday of each month. The Rabbi combines special Torah themes and stories geared for family and child participation. \nOn the first and second Friday evenings of the month\, services are at 5:30 PM.\nOn the third\, fourth\, and the occasional fifth\, Friday’s services start at 6:00 PM.
URL:https://templebrithsholom.org/event/shabbat-service-2/2026-03-20/
LOCATION:Temble B’rith Sholom\, 1004 South 4th Street\, Springfield\, IL\, 62703\, United States
END:VEVENT
BEGIN:VEVENT
DTSTART;TZID=America/Chicago:20260314T100000
DTEND;TZID=America/Chicago:20260314T110000
DTSTAMP:20260422T125046
CREATED:20241224T183227Z
LAST-MODIFIED:20241224T183227Z
UID:10000456-1773482400-1773486000@templebrithsholom.org
SUMMARY:Torah Study
DESCRIPTION:Join us for \nTorah Study\nat Temple B’rith Sholom \n\nContact us for more information.
URL:https://templebrithsholom.org/event/torah-study/2026-03-14/
LOCATION:Temble B’rith Sholom\, 1004 South 4th Street\, Springfield\, IL\, 62703\, United States
END:VEVENT
BEGIN:VEVENT
DTSTART;TZID=America/Chicago:20260313T173000
DTEND;TZID=America/Chicago:20260313T183000
DTSTAMP:20260422T125046
CREATED:20241224T175828Z
LAST-MODIFIED:20241224T175828Z
UID:10000034-1773423000-1773426600@templebrithsholom.org
SUMMARY:Shabbat Service
DESCRIPTION:Join Us For \nShabbat Service\nat Temple B’rith Sholom \n\nAll services include special candle lighting and blessings\, and the end is a Oneg hosted by several congregants.\nThe Rabbi leads us in the liturgy readings using the new Reform prayer book\, Mishkan Tefillah.\nChildren’s and Family services are held on the first Friday of each month. The Rabbi combines special Torah themes and stories geared for family and child participation. \n\nOn the first and second Friday evenings of the month\, services are at 5:30 PM.\nOn the third\, fourth\, and the occasional fifth\, Friday’s services start at 6:00 PM.
URL:https://templebrithsholom.org/event/shabbat-service/2026-03-13/
LOCATION:Temble B’rith Sholom\, 1004 South 4th Street\, Springfield\, IL\, 62703\, United States
END:VEVENT
BEGIN:VEVENT
DTSTART;TZID=America/Chicago:20260307T100000
DTEND;TZID=America/Chicago:20260307T110000
DTSTAMP:20260422T125046
CREATED:20241224T183227Z
LAST-MODIFIED:20241224T183227Z
UID:10000455-1772877600-1772881200@templebrithsholom.org
SUMMARY:Torah Study
DESCRIPTION:Join us for \nTorah Study\nat Temple B’rith Sholom \n\nContact us for more information.
URL:https://templebrithsholom.org/event/torah-study/2026-03-07/
LOCATION:Temble B’rith Sholom\, 1004 South 4th Street\, Springfield\, IL\, 62703\, United States
END:VEVENT
BEGIN:VEVENT
DTSTART;TZID=America/Chicago:20260306T173000
DTEND;TZID=America/Chicago:20260306T183000
DTSTAMP:20260422T125046
CREATED:20241224T175828Z
LAST-MODIFIED:20241224T175828Z
UID:10000033-1772818200-1772821800@templebrithsholom.org
SUMMARY:Shabbat Service
DESCRIPTION:Join Us For \nShabbat Service\nat Temple B’rith Sholom \n\nAll services include special candle lighting and blessings\, and the end is a Oneg hosted by several congregants.\nThe Rabbi leads us in the liturgy readings using the new Reform prayer book\, Mishkan Tefillah.\nChildren’s and Family services are held on the first Friday of each month. The Rabbi combines special Torah themes and stories geared for family and child participation. \n\nOn the first and second Friday evenings of the month\, services are at 5:30 PM.\nOn the third\, fourth\, and the occasional fifth\, Friday’s services start at 6:00 PM.
URL:https://templebrithsholom.org/event/shabbat-service/2026-03-06/
LOCATION:Temble B’rith Sholom\, 1004 South 4th Street\, Springfield\, IL\, 62703\, United States
END:VEVENT
BEGIN:VEVENT
DTSTART;TZID=America/Chicago:20260228T100000
DTEND;TZID=America/Chicago:20260228T110000
DTSTAMP:20260422T125046
CREATED:20241224T183227Z
LAST-MODIFIED:20241224T183227Z
UID:10000454-1772272800-1772276400@templebrithsholom.org
SUMMARY:Torah Study
DESCRIPTION:Join us for \nTorah Study\nat Temple B’rith Sholom \n\nContact us for more information.
URL:https://templebrithsholom.org/event/torah-study/2026-02-28/
LOCATION:Temble B’rith Sholom\, 1004 South 4th Street\, Springfield\, IL\, 62703\, United States
END:VEVENT
BEGIN:VEVENT
DTSTART;TZID=America/Chicago:20260227T180000
DTEND;TZID=America/Chicago:20260227T190000
DTSTAMP:20260422T125046
CREATED:20241224T175929Z
LAST-MODIFIED:20241224T180011Z
UID:10000282-1772215200-1772218800@templebrithsholom.org
SUMMARY:Shabbat Service
DESCRIPTION:Join Us For \nShabbat Service\nat Temple B’rith Sholom \nAll services include special candle lighting and blessings\, and the end is a Oneg hosted by several congregants.\nThe Rabbi leads us in the liturgy readings using the new Reform prayer book\, Mishkan Tefillah.\nChildren’s and Family services are held on the first Friday of each month. The Rabbi combines special Torah themes and stories geared for family and child participation. \nOn the first and second Friday evenings of the month\, services are at 5:30 PM.\nOn the third\, fourth\, and the occasional fifth\, Friday’s services start at 6:00 PM.
URL:https://templebrithsholom.org/event/shabbat-service-2/2026-02-27/
LOCATION:Temble B’rith Sholom\, 1004 South 4th Street\, Springfield\, IL\, 62703\, United States
END:VEVENT
BEGIN:VEVENT
DTSTART;TZID=America/Chicago:20260221T100000
DTEND;TZID=America/Chicago:20260221T110000
DTSTAMP:20260422T125046
CREATED:20241224T183227Z
LAST-MODIFIED:20241224T183227Z
UID:10000453-1771668000-1771671600@templebrithsholom.org
SUMMARY:Torah Study
DESCRIPTION:Join us for \nTorah Study\nat Temple B’rith Sholom \n\nContact us for more information.
URL:https://templebrithsholom.org/event/torah-study/2026-02-21/
LOCATION:Temble B’rith Sholom\, 1004 South 4th Street\, Springfield\, IL\, 62703\, United States
END:VEVENT
BEGIN:VEVENT
DTSTART;TZID=America/Chicago:20260220T180000
DTEND;TZID=America/Chicago:20260220T190000
DTSTAMP:20260422T125046
CREATED:20241224T175929Z
LAST-MODIFIED:20241224T180011Z
UID:10000281-1771610400-1771614000@templebrithsholom.org
SUMMARY:Shabbat Service
DESCRIPTION:Join Us For \nShabbat Service\nat Temple B’rith Sholom \nAll services include special candle lighting and blessings\, and the end is a Oneg hosted by several congregants.\nThe Rabbi leads us in the liturgy readings using the new Reform prayer book\, Mishkan Tefillah.\nChildren’s and Family services are held on the first Friday of each month. The Rabbi combines special Torah themes and stories geared for family and child participation. \nOn the first and second Friday evenings of the month\, services are at 5:30 PM.\nOn the third\, fourth\, and the occasional fifth\, Friday’s services start at 6:00 PM.
URL:https://templebrithsholom.org/event/shabbat-service-2/2026-02-20/
LOCATION:Temble B’rith Sholom\, 1004 South 4th Street\, Springfield\, IL\, 62703\, United States
END:VEVENT
BEGIN:VEVENT
DTSTART;TZID=America/Chicago:20260214T100000
DTEND;TZID=America/Chicago:20260214T110000
DTSTAMP:20260422T125046
CREATED:20241224T183227Z
LAST-MODIFIED:20241224T183227Z
UID:10000452-1771063200-1771066800@templebrithsholom.org
SUMMARY:Torah Study
DESCRIPTION:Join us for \nTorah Study\nat Temple B’rith Sholom \n\nContact us for more information.
URL:https://templebrithsholom.org/event/torah-study/2026-02-14/
LOCATION:Temble B’rith Sholom\, 1004 South 4th Street\, Springfield\, IL\, 62703\, United States
END:VEVENT
BEGIN:VEVENT
DTSTART;TZID=America/Chicago:20260213T173000
DTEND;TZID=America/Chicago:20260213T183000
DTSTAMP:20260422T125046
CREATED:20241224T175828Z
LAST-MODIFIED:20241224T175828Z
UID:10000032-1771003800-1771007400@templebrithsholom.org
SUMMARY:Shabbat Service
DESCRIPTION:Join Us For \nShabbat Service\nat Temple B’rith Sholom \n\nAll services include special candle lighting and blessings\, and the end is a Oneg hosted by several congregants.\nThe Rabbi leads us in the liturgy readings using the new Reform prayer book\, Mishkan Tefillah.\nChildren’s and Family services are held on the first Friday of each month. The Rabbi combines special Torah themes and stories geared for family and child participation. \n\nOn the first and second Friday evenings of the month\, services are at 5:30 PM.\nOn the third\, fourth\, and the occasional fifth\, Friday’s services start at 6:00 PM.
URL:https://templebrithsholom.org/event/shabbat-service/2026-02-13/
LOCATION:Temble B’rith Sholom\, 1004 South 4th Street\, Springfield\, IL\, 62703\, United States
END:VEVENT
BEGIN:VEVENT
DTSTART;TZID=America/Chicago:20260207T100000
DTEND;TZID=America/Chicago:20260207T110000
DTSTAMP:20260422T125046
CREATED:20241224T183227Z
LAST-MODIFIED:20241224T183227Z
UID:10000451-1770458400-1770462000@templebrithsholom.org
SUMMARY:Torah Study
DESCRIPTION:Join us for \nTorah Study\nat Temple B’rith Sholom \n\nContact us for more information.
URL:https://templebrithsholom.org/event/torah-study/2026-02-07/
LOCATION:Temble B’rith Sholom\, 1004 South 4th Street\, Springfield\, IL\, 62703\, United States
END:VEVENT
BEGIN:VEVENT
DTSTART;TZID=America/Chicago:20260206T173000
DTEND;TZID=America/Chicago:20260206T183000
DTSTAMP:20260422T125046
CREATED:20241224T175828Z
LAST-MODIFIED:20241224T175828Z
UID:10000031-1770399000-1770402600@templebrithsholom.org
SUMMARY:Shabbat Service
DESCRIPTION:Join Us For \nShabbat Service\nat Temple B’rith Sholom \n\nAll services include special candle lighting and blessings\, and the end is a Oneg hosted by several congregants.\nThe Rabbi leads us in the liturgy readings using the new Reform prayer book\, Mishkan Tefillah.\nChildren’s and Family services are held on the first Friday of each month. The Rabbi combines special Torah themes and stories geared for family and child participation. \n\nOn the first and second Friday evenings of the month\, services are at 5:30 PM.\nOn the third\, fourth\, and the occasional fifth\, Friday’s services start at 6:00 PM.
URL:https://templebrithsholom.org/event/shabbat-service/2026-02-06/
LOCATION:Temble B’rith Sholom\, 1004 South 4th Street\, Springfield\, IL\, 62703\, United States
END:VEVENT
BEGIN:VEVENT
DTSTART;TZID=America/Chicago:20260131T100000
DTEND;TZID=America/Chicago:20260131T110000
DTSTAMP:20260422T125046
CREATED:20241224T183227Z
LAST-MODIFIED:20241224T183227Z
UID:10000450-1769853600-1769857200@templebrithsholom.org
SUMMARY:Torah Study
DESCRIPTION:Join us for \nTorah Study\nat Temple B’rith Sholom \n\nContact us for more information.
URL:https://templebrithsholom.org/event/torah-study/2026-01-31/
LOCATION:Temble B’rith Sholom\, 1004 South 4th Street\, Springfield\, IL\, 62703\, United States
END:VEVENT
BEGIN:VEVENT
DTSTART;TZID=America/Chicago:20260130T180000
DTEND;TZID=America/Chicago:20260130T190000
DTSTAMP:20260422T125046
CREATED:20241224T175929Z
LAST-MODIFIED:20241224T180011Z
UID:10000280-1769796000-1769799600@templebrithsholom.org
SUMMARY:Shabbat Service
DESCRIPTION:Join Us For \nShabbat Service\nat Temple B’rith Sholom \nAll services include special candle lighting and blessings\, and the end is a Oneg hosted by several congregants.\nThe Rabbi leads us in the liturgy readings using the new Reform prayer book\, Mishkan Tefillah.\nChildren’s and Family services are held on the first Friday of each month. The Rabbi combines special Torah themes and stories geared for family and child participation. \nOn the first and second Friday evenings of the month\, services are at 5:30 PM.\nOn the third\, fourth\, and the occasional fifth\, Friday’s services start at 6:00 PM.
URL:https://templebrithsholom.org/event/shabbat-service-2/2026-01-30/
LOCATION:Temble B’rith Sholom\, 1004 South 4th Street\, Springfield\, IL\, 62703\, United States
END:VEVENT
BEGIN:VEVENT
DTSTART;TZID=America/Chicago:20260124T100000
DTEND;TZID=America/Chicago:20260124T110000
DTSTAMP:20260422T125046
CREATED:20241224T183227Z
LAST-MODIFIED:20241224T183227Z
UID:10000449-1769248800-1769252400@templebrithsholom.org
SUMMARY:Torah Study
DESCRIPTION:Join us for \nTorah Study\nat Temple B’rith Sholom \n\nContact us for more information.
URL:https://templebrithsholom.org/event/torah-study/2026-01-24/
LOCATION:Temble B’rith Sholom\, 1004 South 4th Street\, Springfield\, IL\, 62703\, United States
END:VEVENT
BEGIN:VEVENT
DTSTART;TZID=America/Chicago:20260123T180000
DTEND;TZID=America/Chicago:20260123T190000
DTSTAMP:20260422T125046
CREATED:20241224T175929Z
LAST-MODIFIED:20241224T180011Z
UID:10000279-1769191200-1769194800@templebrithsholom.org
SUMMARY:Shabbat Service
DESCRIPTION:Join Us For \nShabbat Service\nat Temple B’rith Sholom \nAll services include special candle lighting and blessings\, and the end is a Oneg hosted by several congregants.\nThe Rabbi leads us in the liturgy readings using the new Reform prayer book\, Mishkan Tefillah.\nChildren’s and Family services are held on the first Friday of each month. The Rabbi combines special Torah themes and stories geared for family and child participation. \nOn the first and second Friday evenings of the month\, services are at 5:30 PM.\nOn the third\, fourth\, and the occasional fifth\, Friday’s services start at 6:00 PM.
URL:https://templebrithsholom.org/event/shabbat-service-2/2026-01-23/
LOCATION:Temble B’rith Sholom\, 1004 South 4th Street\, Springfield\, IL\, 62703\, United States
END:VEVENT
BEGIN:VEVENT
DTSTART;TZID=America/Chicago:20260117T100000
DTEND;TZID=America/Chicago:20260117T110000
DTSTAMP:20260422T125046
CREATED:20241224T183227Z
LAST-MODIFIED:20241224T183227Z
UID:10000448-1768644000-1768647600@templebrithsholom.org
SUMMARY:Torah Study
DESCRIPTION:Join us for \nTorah Study\nat Temple B’rith Sholom \n\nContact us for more information.
URL:https://templebrithsholom.org/event/torah-study/2026-01-17/
LOCATION:Temble B’rith Sholom\, 1004 South 4th Street\, Springfield\, IL\, 62703\, United States
END:VEVENT
BEGIN:VEVENT
DTSTART;TZID=America/Chicago:20260116T180000
DTEND;TZID=America/Chicago:20260116T190000
DTSTAMP:20260422T125046
CREATED:20241224T175929Z
LAST-MODIFIED:20241224T180011Z
UID:10000278-1768586400-1768590000@templebrithsholom.org
SUMMARY:Shabbat Service
DESCRIPTION:Join Us For \nShabbat Service\nat Temple B’rith Sholom \nAll services include special candle lighting and blessings\, and the end is a Oneg hosted by several congregants.\nThe Rabbi leads us in the liturgy readings using the new Reform prayer book\, Mishkan Tefillah.\nChildren’s and Family services are held on the first Friday of each month. The Rabbi combines special Torah themes and stories geared for family and child participation. \nOn the first and second Friday evenings of the month\, services are at 5:30 PM.\nOn the third\, fourth\, and the occasional fifth\, Friday’s services start at 6:00 PM.
URL:https://templebrithsholom.org/event/shabbat-service-2/2026-01-16/
LOCATION:Temble B’rith Sholom\, 1004 South 4th Street\, Springfield\, IL\, 62703\, United States
END:VEVENT
BEGIN:VEVENT
DTSTART;TZID=America/Chicago:20260110T100000
DTEND;TZID=America/Chicago:20260110T110000
DTSTAMP:20260422T125046
CREATED:20241224T183227Z
LAST-MODIFIED:20241224T183227Z
UID:10000447-1768039200-1768042800@templebrithsholom.org
SUMMARY:Torah Study
DESCRIPTION:Join us for \nTorah Study\nat Temple B’rith Sholom \n\nContact us for more information.
URL:https://templebrithsholom.org/event/torah-study/2026-01-10/
LOCATION:Temble B’rith Sholom\, 1004 South 4th Street\, Springfield\, IL\, 62703\, United States
END:VEVENT
BEGIN:VEVENT
DTSTART;TZID=America/Chicago:20260109T173000
DTEND;TZID=America/Chicago:20260109T183000
DTSTAMP:20260422T125046
CREATED:20241224T175828Z
LAST-MODIFIED:20241224T175828Z
UID:10000030-1767979800-1767983400@templebrithsholom.org
SUMMARY:Shabbat Service
DESCRIPTION:Join Us For \nShabbat Service\nat Temple B’rith Sholom \n\nAll services include special candle lighting and blessings\, and the end is a Oneg hosted by several congregants.\nThe Rabbi leads us in the liturgy readings using the new Reform prayer book\, Mishkan Tefillah.\nChildren’s and Family services are held on the first Friday of each month. The Rabbi combines special Torah themes and stories geared for family and child participation. \n\nOn the first and second Friday evenings of the month\, services are at 5:30 PM.\nOn the third\, fourth\, and the occasional fifth\, Friday’s services start at 6:00 PM.
URL:https://templebrithsholom.org/event/shabbat-service/2026-01-09/
LOCATION:Temble B’rith Sholom\, 1004 South 4th Street\, Springfield\, IL\, 62703\, United States
END:VEVENT
END:VCALENDAR